BEGIN:VCALENDAR
VERSION:2.0
PRODID:-//ChamberMaster//Event Calendar 2.0//EN
METHOD:PUBLISH
X-PUBLISHED-TTL:P3D
REFRESH-INTERVAL:P3D
CALSCALE:GREGORIAN
BEGIN:VEVENT
DTSTART:20250618T200000Z
DTEND:20250618T220000Z
X-MICROSOFT-CDO-ALLDAYEVENT:FALSE
SUMMARY:Free Headshots
DESCRIPTION:Update your resume\, LinkedIn profile\, or business portfolio with a free headshot. Come dressed to impress! Library staff will take your photo using the photography equipment in our Innovation Lab. Your photo will be emailed to you after the photo shoot. Register to receive an email with your assigned 15-minute time slot.
X-ALT-DESC;FMTTYPE=text/html:Update your resume\, LinkedIn profile\, or business portfolio with a free headshot. Come dressed to impress! Library staff will take your photo using the photography equipment in our Innovation Lab. Your photo will be emailed to you after the photo shoot. Register to receive an email with your assigned 15-minute time slot.
LOCATION:Westerville Public Library
UID:e.1186.13701
SEQUENCE:3
DTSTAMP:20260419T194642Z
URL:https://business.westervillechamber.com/events/details/free-headshots-13701
END:VEVENT

END:VCALENDAR
