BEGIN:VCALENDAR
VERSION:2.0
PRODID:-//ChamberMaster//Event Calendar 2.0//EN
METHOD:PUBLISH
X-PUBLISHED-TTL:P3D
REFRESH-INTERVAL:P3D
CALSCALE:GREGORIAN
BEGIN:VEVENT
DTSTART:20220113T180000Z
DTEND:20220113T190000Z
X-MICROSOFT-CDO-ALLDAYEVENT:FALSE
SUMMARY:Free Webinar: The Latest on OSHA’s COVID Emergency Temporary Standard
DESCRIPTION:Despite lawsuits challenging OSHA's vaccinate or test emergency temporary standard\, it's important for employers to be familiar with it. By the time of this webinar\, we should know which parts of the standard are in place. We plan to review the ETS' status and provide guidance on what employers should be doing to stay OSHA compliant.
X-ALT-DESC;FMTTYPE=text/html:<span style="color: rgb(63\, 63\, 63)\; font-family: &quot\;Open Sans&quot\;\; font-size: 17px\;">Despite lawsuits challenging OSHA&rsquo\;s vaccinate or test emergency temporary standard\, it&rsquo\;s important for employers to be familiar with it. By the time of this webinar\, we should know which parts of the standard are in place. We plan to review the ETS&rsquo\; status and provide guidance on what employers should be doing to stay OSHA compliant.</span>
LOCATION:Register here
UID:e.1186.5633
SEQUENCE:3
DTSTAMP:20260422T090452Z
URL:https://business.westervillechamber.com/events/details/free-webinar-the-latest-on-osha-s-covid-emergency-temporary-standard-5633
END:VEVENT

END:VCALENDAR
