BEGIN:VCALENDAR
VERSION:2.0
PRODID:-//ChamberMaster//Event Calendar 2.0//EN
METHOD:PUBLISH
X-PUBLISHED-TTL:P3D
REFRESH-INTERVAL:P3D
CALSCALE:GREGORIAN
BEGIN:VEVENT
DTSTART:20250208T140000Z
DTEND:20250208T163000Z
X-MICROSOFT-CDO-ALLDAYEVENT:FALSE
SUMMARY:Get Ready for Birth Workshop: Optimizing Labor with Acupuncture & Physical Therapy
DESCRIPTION:Prepare your body and mind\, facilitate labor\, and create pain management expectations from the unique perspective of physical therapy and acupuncture.\nYou will learn:\n\n\n	Stretches and Exercises\n	Labor Positions\n	Support Person Intervention\n	Breathing\n	Acupressure\n	Reflexology\n	Meditation\n\nIf this date doesn't work for you\, reach out to Erika.  Individual appointments are available for an additional fee.
X-ALT-DESC;FMTTYPE=text/html:Prepare your body and mind\, facilitate labor\, and create pain management expectations from the unique perspective of physical therapy and acupuncture.\n<p>You will learn:</p>\n\n<ul>\n	<li>Stretches and Exercises</li>\n	<li>Labor Positions</li>\n	<li>Support Person Intervention</li>\n	<li>Breathing</li>\n	<li>Acupressure</li>\n	<li>Reflexology</li>\n	<li>Meditation</li>\n</ul>\nIf this date doesn&#39\;t work for you\, reach out to Erika. &nbsp\;Individual appointments are available for an additional fee.<br />\n&nbsp\;
LOCATION:Balance Integrative Wellness 109 Commerce Park Dr Westerville\, OH 43082
UID:e.1186.13492
SEQUENCE:3
DTSTAMP:20260419T225910Z
URL:https://business.westervillechamber.com/events/details/get-ready-for-birth-workshop-optimizing-labor-with-acupuncture-physical-therapy-13492
END:VEVENT

END:VCALENDAR
