BEGIN:VCALENDAR
VERSION:2.0
PRODID:-//ChamberMaster//Event Calendar 2.0//EN
METHOD:PUBLISH
X-PUBLISHED-TTL:P3D
REFRESH-INTERVAL:P3D
CALSCALE:GREGORIAN
BEGIN:VEVENT
DTSTART:20260325T220000Z
DTEND:20260325T233000Z
X-MICROSOFT-CDO-ALLDAYEVENT:FALSE
SUMMARY:Grief Matters: Picking up the Pieces Honoring Grief and Connection Through the Art of Kintsugi
DESCRIPTION:What do you do with the pieces of a favorite dish or cherished antique when it has broken? Rather than discard an item because it is damaged and seems no longer valuable\, the ancient Japanese Art of Kintsugi repairs these broken pieces. Meaning "golden joinery\," Kintsugi encourages us to embrace and honor the damage as a beautiful\, valuable part of an item's history.\n\n\n\nThis is a powerful metaphor for the experience of healing. Please join us for an evening of grief education\, support\, and therapeutic art. Participants will take home their own Kintsugi piece at the end of the event.
X-ALT-DESC;FMTTYPE=text/html:What do you do with the pieces of a favorite dish or cherished antique when it has broken? Rather than discard an item because it is damaged and seems no longer valuable\, the ancient Japanese Art of Kintsugi repairs these broken pieces. Meaning &ldquo\;golden joinery\,&rdquo\; Kintsugi encourages us to embrace and honor the damage as a beautiful\, valuable part of an item&rsquo\;s history.<br />\n<br />\nThis is a powerful metaphor for the experience of healing. Please join us for an evening of grief education\, support\, and therapeutic art. Participants will take home their own Kintsugi piece at the end of the event.
LOCATION:Cornerstone of Hope 253 N. State Street Suite 200 Westerville\, OH 43081 Free parking surrounding the building. Elevator and stair access to the event.
UID:e.1186.14599
SEQUENCE:3
DTSTAMP:20260422T124709Z
URL:https://business.westervillechamber.com/events/details/grief-matters-picking-up-the-pieces-honoring-grief-and-connection-through-the-art-of-kintsugi-14599
END:VEVENT

END:VCALENDAR
