BEGIN:VCALENDAR
VERSION:2.0
PRODID:-//ChamberMaster//Event Calendar 2.0//EN
METHOD:PUBLISH
X-PUBLISHED-TTL:P3D
REFRESH-INTERVAL:P3D
CALSCALE:GREGORIAN
BEGIN:VEVENT
DTSTART:20251029T220000Z
DTEND:20251030T000000Z
X-MICROSOFT-CDO-ALLDAYEVENT:FALSE
SUMMARY:Grief Matters: Understanding Medication in the Context of Grief
DESCRIPTION:For many individuals\, medication can be a helpful tool to support their mental wellness. But what does this look like in the context of grief? Please join us as we welcome Becca Granger\, CNP\, whose aim for the evening is that you leave with new knowledge and understanding about medications to aid you in asking the right questions and getting the most benefit from your support plan.\n\n\n\nShe welcomes your questions and will address frequently asked questions including: \n\nWhat are the risks\, benefits\, and limitations of taking medication?\n\nAre there alternatives?\n\nHow do they work and are they safe for me?\n\nIs medication a cop-out?  What if I start medication and want to stop?\n\n\n\nAdditional support tools and opportunities for self-reflection will be shared as well.\n\n\n\nBecca Granger has been a Certified Nurse Practitioner since 2012 with an exclusive focus on mental health since 2021. She believes that there is always hope and deciding whether or not to explore medication for your mental health should be a conversation between you and your healthcare provider\, using shared decision-making to help you safely and effectively meet your goals.
X-ALT-DESC;FMTTYPE=text/html:For many individuals\, medication can be a helpful tool to support their mental wellness. But what does this look like in the context of grief? Please join us as we welcome Becca Granger\, CNP\, whose aim for the evening is that you leave with new knowledge and understanding about medications to aid you in asking the right questions and getting the most benefit from your support plan.<br />\n<br />\nShe welcomes your questions and will address frequently asked questions including:&nbsp\;<br />\nWhat are the risks\, benefits\, and limitations of taking medication?<br />\nAre there alternatives?<br />\nHow do they work and are they safe for me?<br />\nIs medication a cop-out?&nbsp\; What if I start medication and want to stop?<br />\n<br />\nAdditional support tools and opportunities for self-reflection will be shared as well.<br />\n<br />\nBecca Granger has been a Certified Nurse Practitioner since 2012 with an exclusive focus on mental health since 2021. She believes that there is always hope and deciding whether or not to explore medication for your mental health should be a conversation between you and your healthcare provider\, using shared decision-making to help you safely and effectively meet your goals.&nbsp\;
LOCATION:Cornerstone of Hope 253 N. State Street\, Suite 200 Westerville\, Ohio 43081 Free parking
UID:e.1186.13987
SEQUENCE:3
DTSTAMP:20260419T121347Z
URL:https://business.westervillechamber.com/events/details/grief-matters-understanding-medication-in-the-context-of-grief-13987
END:VEVENT

END:VCALENDAR
