BEGIN:VCALENDAR
VERSION:2.0
PRODID:-//ChamberMaster//Event Calendar 2.0//EN
METHOD:PUBLISH
X-PUBLISHED-TTL:P3D
REFRESH-INTERVAL:P3D
CALSCALE:GREGORIAN
BEGIN:VEVENT
DTSTART:20251213T140000Z
DTEND:20251213T160000Z
X-MICROSOFT-CDO-ALLDAYEVENT:FALSE
SUMMARY:Holiday Pancake Breakfast
DESCRIPTION:The OSU Alumni Club of Delaware County wants to help you celebrate the holidays!  The Delaware Buckeyes are holding a pancake breakfast on Saturday\, December 13th from 8:30 AM until 11:00 AM at Genoa Township Hall\, 5111 S Old 3C\, Westerville.\n\nStop by\, enjoy breakfast and visit with Santa Claus.  Breakfast includes pancakes\, sausage\, coffee/tea\, and milk.  \n\nBreakfast is FREE. Donations to the club's scholarship fund will be gratefully accepted but are not required.\n\nOpen to the public but please register at https://www.locallevelevents.com/events/details/38970 so we can have an approximate headcount.
X-ALT-DESC;FMTTYPE=text/html:<p><span style="font-family:arial\; font-size:14px">The OSU Alumni Club of Delaware County wants to help you celebrate the holidays!&nbsp\; The Delaware Buckeyes are holding a pancake breakfast on&nbsp\;</span><strong><span style="font-family:arial\; font-size:14px">Saturday\, December 13th</span></strong><span style="font-family:arial\; font-size:14px">&nbsp\;from 8:30 AM until 11:00 AM at Genoa Township Hall\, 5111 S Old 3C\, Westerville.</span></p>\n\n<p><span style="font-family:arial\; font-size:14px">Stop by\, enjoy breakfast and visit with Santa Claus.&nbsp\; Breakfast includes pancakes\, sausage\, coffee/tea\, and milk.&nbsp\;&nbsp\;</span></p>\n\n<p><span style="font-family:arial\; font-size:14px">Breakfast is&nbsp\;</span><em>FREE</em><span style="font-family:arial\; font-size:14px">. Donations to the club&#39\;s scholarship fund will be gratefully accepted but are not required.</span></p>\n\n<p><span style="font-family:arial\; font-size:14px">Open to the public but please register at&nbsp\;</span>https://www.locallevelevents.com/events/details/38970<span style="font-family:arial\; font-size:14px"> so we can have an approximate headcount.</span></p>\n\n<p>&nbsp\;</p>\n
LOCATION:Genoa Township Hall\, 5111 S Old 3C\, Westerville.
UID:e.1186.14053
SEQUENCE:3
DTSTAMP:20260423T003910Z
URL:https://business.westervillechamber.com/events/details/holiday-pancake-breakfast-14053
END:VEVENT

END:VCALENDAR
