BEGIN:VCALENDAR
VERSION:2.0
PRODID:-//ChamberMaster//Event Calendar 2.0//EN
METHOD:PUBLISH
X-PUBLISHED-TTL:P3D
REFRESH-INTERVAL:P3D
CALSCALE:GREGORIAN
BEGIN:VEVENT
DTSTART:20180905T190000Z
DTEND:20180905T220000Z
X-MICROSOFT-CDO-ALLDAYEVENT:FALSE
SUMMARY:Holly State Farm Insurance Agency Open House and Ribbon Cutting
DESCRIPTION:Come celebrate the Grand Opening for Holly Spann State Farm Insurance Agency.  Join in the festivities with food and fun as we celebrate this new business opening here in Westerville.
X-ALT-DESC;FMTTYPE=text/html:Come celebrate the Grand Opening for Holly Spann State Farm Insurance Agency.&nbsp\; Join in the festivities with food and fun as we celebrate this new business opening here in Westerville.&nbsp\;
LOCATION:580 Office Parkway\, Suite 130 Westerville\, OH 43082
UID:e.1186.3034
SEQUENCE:3
DTSTAMP:20260421T125601Z
URL:https://business.westervillechamber.com/events/details/holly-state-farm-insurance-agency-open-house-and-ribbon-cutting-3034
END:VEVENT

END:VCALENDAR
