BEGIN:VCALENDAR
VERSION:2.0
PRODID:-//ChamberMaster//Event Calendar 2.0//EN
METHOD:PUBLISH
X-PUBLISHED-TTL:P3D
REFRESH-INTERVAL:P3D
CALSCALE:GREGORIAN
BEGIN:VEVENT
DTSTART:20250816T150000Z
DTEND:20250816T183000Z
X-MICROSOFT-CDO-ALLDAYEVENT:FALSE
SUMMARY:Honda & Hounds - Block Party and Pet Expo
DESCRIPTION:A Tail-Wagging Good Time Awaits! \n\nGet ready for a day full of fun\, food\, fitness\, and furry friends! Whether you're a proud pet parent or just love animals\, this event has something for everyone. Bring your dog\, your friends\, and your family to enjoy a vibrant celebration of community and compassion.\nStrut Your Mutt 2K/5K Walk/Run\n\nKick off the festivities with our popular Strut Your Mutt walk/run on the scenic Jim Simmons Trail participate with or without your pup!\n\n\n	?? Registration includes a t-shirt for you & a bandana\, tennis ball\, and other goodies for your dog\n	?? Timed 2K/5K race\n	?? Prizes for top finishers! ??https://runsignup.com/Race/OH/Marysville/StrutYourMuttEvent\n	??? Hydrate your pup at our Hydration Station sponsored by Brutus Bone Broth\, and get free samples?\n\n\n\n\nLearn More and Register: https://www.ohiopetcharities.org/events/honda-hounds-2025
X-ALT-DESC;FMTTYPE=text/html:<strong>A Tail-Wagging Good Time Awaits! </strong><br />\nGet ready for a day full of fun\, food\, fitness\, and furry friends! Whether you&#39\;re a proud pet parent or just love animals\, this event has something for everyone. Bring your dog\, your friends\, and your family to enjoy a vibrant celebration of community and compassion.\n<h3 style="text-align:initial"><strong>Strut Your Mutt 2K/5K Walk/Run</strong></h3>\n\n<p style="text-align:initial">Kick off the festivities with our popular <strong>Strut Your Mutt</strong>&nbsp\;walk/run on the scenic <strong>Jim Simmons Trail</strong>&mdash\;participate with or without your pup!</p>\n\n<ul>\n	<li style="text-align:initial">?? Registration includes a t-shirt for you &amp\; a bandana\, tennis ball\, and other goodies for your dog</li>\n	<li style="text-align:initial">?? Timed 2K/5K race</li>\n	<li style="text-align:initial">?? Prizes for top finishers! ??<a class="_1N918 k4zAh" href="https://runsignup.com/Race/OH/Marysville/StrutYourMuttEvent" rel="noopener noreferrer" style="background: rgba(0\, 0\, 0\, 0)\; border: 0px\; margin: 0px\; outline: 0px\; padding: 0px\; vertical-align: baseline\; cursor: pointer\; text-decoration-line: none\; text-decoration-style: solid\; text-decoration-color: rgb(45\, 73\, 144)\; -webkit-tap-highlight-color: rgba(0\, 0\, 0\, 0)\; color: rgb(45\, 73\, 144)\; line-height: 1.5\; min-height: auto\; box-sizing: inherit\;" target="_blank"><u>https://</u></a><a class="_1N918 k4zAh" href="http://runsignup.com/Race/OH/Marysville/StrutYourMuttEvent" rel="noopener noreferrer" style="background: rgba(0\, 0\, 0\, 0)\; border: 0px\; margin: 0px\; outline: 0px\; padding: 0px\; vertical-align: baseline\; cursor: pointer\; text-decoration-line: none\; text-decoration-style: solid\; text-decoration-color: rgb(45\, 73\, 144)\; -webkit-tap-highlight-color: rgba(0\, 0\, 0\, 0)\; color: rgb(45\, 73\, 144)\; line-height: 1.5\; min-height: auto\; box-sizing: inherit\;" target="_blank"><u>runsignup.com/Race/OH/Marysville/StrutYourMuttEvent</u></a></li>\n	<li style="text-align:initial"><a class="_1N918 k4zAh" href="http://runsignup.com/Race/OH/Marysville/StrutYourMuttEvent" rel="noopener noreferrer" style="background: rgba(0\, 0\, 0\, 0)\; border: 0px\; margin: 0px\; outline: 0px\; padding: 0px\; vertical-align: baseline\; cursor: pointer\; text-decoration-line: none\; text-decoration-style: solid\; text-decoration-color: rgb(45\, 73\, 144)\; -webkit-tap-highlight-color: rgba(0\, 0\, 0\, 0)\; color: rgb(45\, 73\, 144)\; line-height: 1.5\; min-height: auto\; box-sizing: inherit\;" target="_blank"><u>?<strong>?? </strong>Hydrate your pup at our Hydration Station sponsored by Brutus Bone Broth\, and get free samples<u><u>?</u></u></u></a></li>\n</ul>\n\n<div style="text-align:initial">\n<hr /></div>\n<strong>Learn More and Register:</strong> https://www.ohiopetcharities.org/events/honda-hounds-2025
LOCATION:Marysville Bark Park 455 N Maple St. Marysville\, OH 43040
UID:e.1186.13797
SEQUENCE:3
DTSTAMP:20260419T132059Z
URL:https://business.westervillechamber.com/events/details/honda-hounds-block-party-and-pet-expo-13797
END:VEVENT

END:VCALENDAR
