BEGIN:VCALENDAR
VERSION:2.0
PRODID:-//ChamberMaster//Event Calendar 2.0//EN
METHOD:PUBLISH
X-PUBLISHED-TTL:P3D
REFRESH-INTERVAL:P3D
CALSCALE:GREGORIAN
BEGIN:VEVENT
DTSTART:20260704T113000Z
DTEND:20260704T133000Z
X-MICROSOFT-CDO-ALLDAYEVENT:FALSE
SUMMARY:Independence Day 5k
DESCRIPTION:Get your 4th moving with the Westerville Rotary 5K to start the holiday!\n\n\n\n2026 event schedule\n\n7:30 a.m.     Pre-race Tribute Ceremony to Veterans and First Responders\n\n\n\n7:45 a.m.     Kids Fun Run for young children (100-yard dash for 7 and under\; 200-yard dash for 8-11)\n\n\n\n8 a.m.           5K Run-Walk start
X-ALT-DESC;FMTTYPE=text/html:<span style="font-size:16px\;">Get your 4th moving with the Westerville Rotary 5K to start the holiday!</span><br />\n<br />\n2026 event schedule<br />\n7:30 a.m.&nbsp\; &nbsp\; &nbsp\;Pre-race Tribute Ceremony to Veterans and First Responders<br />\n<br />\n7:45 a.m.&nbsp\; &nbsp\; &nbsp\;Kids Fun Run for young children (100-yard dash for 7 and under\; 200-yard dash for 8-11)<br />\n<br />\n8 a.m.&nbsp\; &nbsp\; &nbsp\; &nbsp\; &nbsp\; &nbsp\;5K Run-Walk start<br />\n
LOCATION:Westerville Sports Complex\, 325 N. Cleveland Ave.
UID:e.1186.14697
SEQUENCE:3
DTSTAMP:20260421T151159Z
URL:https://business.westervillechamber.com/events/details/independence-day-5k-14697
END:VEVENT

END:VCALENDAR
