BEGIN:VCALENDAR
VERSION:2.0
PRODID:-//ChamberMaster//Event Calendar 2.0//EN
METHOD:PUBLISH
X-PUBLISHED-TTL:P3D
REFRESH-INTERVAL:P3D
CALSCALE:GREGORIAN
BEGIN:VEVENT
DTSTART:20260121T200000Z
DTEND:20260121T220000Z
X-MICROSOFT-CDO-ALLDAYEVENT:FALSE
SUMMARY:InDesign 101
DESCRIPTION:Worried about Microsoft Publisher being discontinued in October? Learn the basics of Adobe InDesign\, another desktop publishing application\, in this class designed for beginners.
X-ALT-DESC;FMTTYPE=text/html:Worried about&nbsp\;Microsoft Publisher being discontinued in October?&nbsp\;Learn&nbsp\;the basics of Adobe InDesign\, another desktop publishing application\, in this class designed for beginners.&nbsp\;
LOCATION:Westerville Public Library
UID:e.1186.14065
SEQUENCE:3
DTSTAMP:20260421T053550Z
URL:https://business.westervillechamber.com/events/details/indesign-101-14065
END:VEVENT

END:VCALENDAR
