BEGIN:VCALENDAR
VERSION:2.0
PRODID:-//ChamberMaster//Event Calendar 2.0//EN
METHOD:PUBLISH
X-PUBLISHED-TTL:P3D
REFRESH-INTERVAL:P3D
CALSCALE:GREGORIAN
BEGIN:VEVENT
DTSTART:20250610T220000Z
DTEND:20250611T010000Z
X-MICROSOFT-CDO-ALLDAYEVENT:FALSE
SUMMARY:J. Gilbert's Creative Cocktails Dinner
DESCRIPTION:MENU FIRST COURSE Seared Scallops served with citrus beurre blanc and microgreens Paired with a Paloma Patron Silver Tequila\, lime\, orange and grapefruit SECOND COURSE Dry Aged Strip Steak served with charred broccolini and bourbon balsamic reduction Paired with a Basil Julep Cocktail Middle West bourbon\, basil syrup THIRD COURSE Pan-Seared Lamb Chops Earl Grey and apricot glaze\, served with truffle mashed potatoes and roasted root vegetables Paired with a Paradise Cocktail Myers Dark Rum\, fresh pineapple juice\, cream of coconut FOURTH COURSE Berry Panna Cotta served with Earl Grey shortbread and fresh berries Paired with a Watermelon Gin Cocktail Mr. Pickles Gin\, watermelon pur e\, lime\, muddled cucumber Enjoy this exclusive event for $99 per person. Reserve your spot by calling (614) 840-9090 today! Tax/gratuity are not included in the price of the ticket\,
X-ALT-DESC;FMTTYPE=text/html:MENU FIRST COURSE Seared Scallops served with citrus beurre blanc and microgreens Paired with a Paloma Patron Silver Tequila\, lime\, orange and grapefruit SECOND COURSE Dry Aged Strip Steak served with charred broccolini and bourbon balsamic reduction Paired with a Basil Julep Cocktail Middle West bourbon\, basil syrup THIRD COURSE Pan-Seared Lamb Chops Earl Grey and apricot glaze\, served with truffle mashed potatoes and roasted root vegetables Paired with a Paradise Cocktail Myers Dark Rum\, fresh pineapple juice\, cream of coconut FOURTH COURSE Berry Panna Cotta served with Earl Grey shortbread and fresh berries Paired with a Watermelon Gin Cocktail Mr. Pickles Gin\, watermelon pur&eacute\;e\, lime\, muddled cucumber Enjoy this exclusive event for $99 per person. Reserve your spot by calling (614) 840-9090 today! Tax/gratuity are not included in the price of the ticket\,
LOCATION:J. Gilbert's Wood-Fired Steaks & Seafood 1 E. Campus View Blvd. Columbus\, OH 43235
UID:e.1186.13713
SEQUENCE:3
DTSTAMP:20260419T194818Z
URL:https://business.westervillechamber.com/events/details/j-gilbert-s-creative-cocktails-dinner-13713
END:VEVENT

END:VCALENDAR
