BEGIN:VCALENDAR
VERSION:2.0
PRODID:-//ChamberMaster//Event Calendar 2.0//EN
METHOD:PUBLISH
X-PUBLISHED-TTL:P3D
REFRESH-INTERVAL:P3D
CALSCALE:GREGORIAN
BEGIN:VEVENT
DTSTART:20260113T233000Z
DTEND:20260114T013000Z
X-MICROSOFT-CDO-ALLDAYEVENT:FALSE
SUMMARY:January Wine Dinner
DESCRIPTION:Join us for our first Wine Dinner of 2026\, a four-course pairing event featuring Duckhorn Vineyards. Nestled in the heart of Napa\, Duckhorn cultivates world-class wine with tradition\, and a passion for excellence that complements each of our chefs' four authentic Italian dishes.
X-ALT-DESC;FMTTYPE=text/html:Join us for our first Wine Dinner of 2026\, a four-course pairing event featuring Duckhorn Vineyards. Nestled in the heart of Napa\, Duckhorn cultivates world-class wine with tradition\, and a passion for excellence that complements each of our chefs&#39\; four authentic Italian dishes.&nbsp\;
LOCATION:Carrabba's Italian Grill in Polaris 8460 Lyra Dr\, Columbus OH 43240
UID:e.1186.14130
SEQUENCE:3
DTSTAMP:20260421T053915Z
URL:https://business.westervillechamber.com/events/details/january-wine-dinner-14130
END:VEVENT

END:VCALENDAR
