BEGIN:VCALENDAR
VERSION:2.0
PRODID:-//ChamberMaster//Event Calendar 2.0//EN
METHOD:PUBLISH
X-PUBLISHED-TTL:P3D
REFRESH-INTERVAL:P3D
CALSCALE:GREGORIAN
BEGIN:VEVENT
DTSTART;VALUE=DATE:20250324
DTEND;VALUE=DATE:20250327
TRANSP:TRANSPARENT
X-MICROSOFT-CDO-ALLDAYEVENT:TRUE
SUMMARY:Kickstart Ohio
DESCRIPTION:Kickstart Ohio\, presented by Ohio Wesleyan University\n\nOhio's Kickstart Event at Easton Hilton with Steve Wozniak\, Co-Founder of Apple Computer\, Inc.\n\nJoin us for this 3-day Entrepreneurship Summit\n\nMarch 24-26 | Columbus\, OH\n\nKickstart Ohio celebrates innovation\, entrepreneurship\, and community growth in Ohio. The event connects entrepreneurs\, investors\, and businesses to share ideas\, collaborate\, and grow. Attendees will gain insights from industry leaders\, network with peers\, and experience the vibrant spirit of Ohio's entrepreneurial ecosystem.\n\n \n\nCome hear from the man himself\, Steve Wozniak\, kicking off Kickstart Ohio as this year's keynote speaker!!\n\nSteve Wozniak is an American technology entrepreneur\, electrical engineer\, computer programmer\, philanthropist\, and inventor. In 1976\, he co-founded Apple Computer with his early business partner Steve Jobs.\n\n\n\nurl for the event: https://www.kickstartohio.com/\n\nurl to register as an attendee: https://www.eventbrite.com/e/kickstart-ohio-tickets-1234989489809?aff=oddtdtcreator
X-ALT-DESC;FMTTYPE=text/html:<p style="margin: 0px\; padding: 0px\; box-sizing: border-box\; font-size: 16px\; line-height: 1.5rem\; color: rgb(111\, 114\, 135)\; font-family: &quot\;Neue Plak&quot\;\, -apple-system\, BlinkMacSystemFont\, Roboto\, &quot\;Helvetica Neue&quot\;\, Helvetica\, Tahoma\, Arial\, sans-serif\;"><span style="font-weight: 700\; box-sizing: border-box\; padding-top: 0px\;">Kickstart Ohio\, presented by Ohio Wesleyan University</span></p>\n\n<p style="margin: 0px\; padding: 10px 0px 0px\; box-sizing: border-box\; font-size: 16px\; line-height: 1.5rem\; color: rgb(111\, 114\, 135)\; font-family: &quot\;Neue Plak&quot\;\, -apple-system\, BlinkMacSystemFont\, Roboto\, &quot\;Helvetica Neue&quot\;\, Helvetica\, Tahoma\, Arial\, sans-serif\;"><span style="font-weight: 700\; box-sizing: border-box\; padding-top: 0px\;">Ohio&#39\;s Kickstart Event at Easton Hilton with Steve Wozniak\, Co-Founder of Apple Computer\, Inc.</span></p>\n\n<p style="margin: 0px\; padding: 10px 0px 0px\; box-sizing: border-box\; font-size: 16px\; line-height: 1.5rem\; color: rgb(111\, 114\, 135)\; font-family: &quot\;Neue Plak&quot\;\, -apple-system\, BlinkMacSystemFont\, Roboto\, &quot\;Helvetica Neue&quot\;\, Helvetica\, Tahoma\, Arial\, sans-serif\;">Join us for this 3-day Entrepreneurship Summit</p>\n\n<p style="margin: 0px\; padding: 10px 0px 0px\; box-sizing: border-box\; font-size: 16px\; line-height: 1.5rem\; color: rgb(111\, 114\, 135)\; font-family: &quot\;Neue Plak&quot\;\, -apple-system\, BlinkMacSystemFont\, Roboto\, &quot\;Helvetica Neue&quot\;\, Helvetica\, Tahoma\, Arial\, sans-serif\;">March 24-26 | Columbus\, OH</p>\n\n<p style="margin: 0px\; padding: 10px 0px 0px\; box-sizing: border-box\; font-size: 16px\; line-height: 1.5rem\; color: rgb(111\, 114\, 135)\; font-family: &quot\;Neue Plak&quot\;\, -apple-system\, BlinkMacSystemFont\, Roboto\, &quot\;Helvetica Neue&quot\;\, Helvetica\, Tahoma\, Arial\, sans-serif\;">Kickstart Ohio celebrates innovation\, entrepreneurship\, and community growth in Ohio. The event connects entrepreneurs\, investors\, and businesses to share ideas\, collaborate\, and grow. Attendees will gain insights from industry leaders\, network with peers\, and experience the vibrant spirit of Ohio&#39\;s entrepreneurial ecosystem.</p>\n\n<p style="margin: 0px\; padding: 10px 0px 0px\; box-sizing: border-box\; font-size: 16px\; line-height: 1.5rem\; color: rgb(111\, 114\, 135)\; font-family: &quot\;Neue Plak&quot\;\, -apple-system\, BlinkMacSystemFont\, Roboto\, &quot\;Helvetica Neue&quot\;\, Helvetica\, Tahoma\, Arial\, sans-serif\;">&nbsp\;</p>\n\n<p style="margin: 0px\; padding: 10px 0px 0px\; box-sizing: border-box\; font-size: 16px\; line-height: 1.5rem\; color: rgb(111\, 114\, 135)\; font-family: &quot\;Neue Plak&quot\;\, -apple-system\, BlinkMacSystemFont\, Roboto\, &quot\;Helvetica Neue&quot\;\, Helvetica\, Tahoma\, Arial\, sans-serif\;"><span style="font-weight: 700\; box-sizing: border-box\; padding-top: 0px\;">Come hear from the man himself\,&nbsp\;</span><span style="font-weight: 700\; box-sizing: border-box\;">Steve Wozniak</span><span style="font-weight: 700\; box-sizing: border-box\;">\, kicking off Kickstart Ohio as this year&#39\;s keynote speaker!!</span></p>\n\n<p style="margin: 0px\; padding: 10px 0px 0px\; box-sizing: border-box\; font-size: 16px\; line-height: 1.5rem\; color: rgb(111\, 114\, 135)\; font-family: &quot\;Neue Plak&quot\;\, -apple-system\, BlinkMacSystemFont\, Roboto\, &quot\;Helvetica Neue&quot\;\, Helvetica\, Tahoma\, Arial\, sans-serif\;">Steve Wozniak is an American technology entrepreneur\, electrical engineer\, computer programmer\, philanthropist\, and inventor. In 1976\, he co-founded Apple Computer with his early business partner Steve Jobs.<br />\n<br />\n<span style="font-family:arial\,sans-serif\;">url for the event:&nbsp\;<strong><a href="https://www.kickstartohio.com/">https://www.kickstartohio.com/</a></strong></span><br />\n<span style="font-family:arial\,sans-serif\;">url to register as an attendee:&nbsp\;<strong><a href="https://www.eventbrite.com/e/kickstart-ohio-tickets-1234989489809?aff=oddtdtcreator">https://www.eventbrite.com/e/kickstart-ohio-tickets-1234989489809?aff=oddtdtcreator</a></strong></span><br />\n&nbsp\;</p>\n
LOCATION:Hilton Columbus at Easton 3900 Chagrin Drive Columbus\, OH 43219
UID:e.1186.13569
SEQUENCE:3
DTSTAMP:20260420T142527Z
URL:https://business.westervillechamber.com/events/details/kickstart-ohio-13569
END:VEVENT

END:VCALENDAR
