BEGIN:VCALENDAR
VERSION:2.0
PRODID:-//ChamberMaster//Event Calendar 2.0//EN
METHOD:PUBLISH
X-PUBLISHED-TTL:P3D
REFRESH-INTERVAL:P3D
CALSCALE:GREGORIAN
BEGIN:VEVENT
DTSTART:20260507T210000Z
DTEND:20260507T223000Z
X-MICROSOFT-CDO-ALLDAYEVENT:FALSE
SUMMARY:KidX Derby Day
DESCRIPTION:Join us in celebrating all things Kentucky Derby as we host a KidX Derby Day on Thursday\, May 7 from 5:00 - 6:30pm!\n\n  We'll have free kids pony rides from 'Horse N Round Fun'\n\n  Location will be outdoors in between Benihana and Godfrys\n\n  Cowboy dress up station for kids\n\n  Lasso practicing station\n\nThis is a FREE event!\n\nKidX events are sponsored by Aqua-Tots
X-ALT-DESC;FMTTYPE=text/html:<div>Join us in celebrating all things Kentucky Derby as we host a KidX Derby Day on Thursday\, May 7 from 5:00 - 6:30pm!</div>\n\n<div>&bull\; We&#39\;ll have free kids pony rides from &#39\;Horse N Round Fun&#39\;<br />\n&bull\; Location will be outdoors in between Benihana and Godfrys<br />\n&bull\; Cowboy dress up station for kids<br />\n&bull\; Lasso practicing station</div>\n\n<div>This is a FREE event!</div>\n\n<div>KidX events are sponsored by Aqua-Tots</div>\n
LOCATION:Polaris Fashion Place\, near The Cheesecake Factory
UID:e.1186.14701
SEQUENCE:3
DTSTAMP:20260425T182600Z
URL:https://business.westervillechamber.com/events/details/kidx-derby-day-14701
END:VEVENT

END:VCALENDAR
