BEGIN:VCALENDAR
VERSION:2.0
PRODID:-//ChamberMaster//Event Calendar 2.0//EN
METHOD:PUBLISH
X-PUBLISHED-TTL:P3D
REFRESH-INTERVAL:P3D
CALSCALE:GREGORIAN
BEGIN:VEVENT
DTSTART:20250910T210000Z
DTEND:20250910T223000Z
X-MICROSOFT-CDO-ALLDAYEVENT:FALSE
SUMMARY:KidX Explore More Event\, with Dick's House of Sport!
DESCRIPTION:The new Dick's House of Sport is scheduled for a Soft Opening on August 6 and a Grand Opening on August 15!\n\nThe KidX program is taking over with a KidX Explore More event!\n\nJoin us in the new Dick's House of Sport to try out their new interactive stations for free!\n\nStations will be Climbing Wall\, HitTrax Cage\, and Golf Simulator for this event to have 3 rotating stations.\n\nRSVP is required for this event! RSVP HERE
X-ALT-DESC;FMTTYPE=text/html:<div>The new Dick&#39\;s House of Sport is scheduled for a Soft Opening on August 6 and a Grand Opening on August 15!</div>\n\n<div>The KidX program is taking over with a KidX Explore More event!</div>\n\n<div>Join us in the new Dick&#39\;s House of Sport to try out their new interactive stations for free!</div>\n\n<div>Stations will be Climbing Wall\, HitTrax Cage\, and Golf Simulator for this event to have 3 rotating stations.</div>\n\n<div>RSVP is required for this event! <a href="https://www.dickssportinggoods.com/s/scheduling/f/395054d4-2893-4ab7-b3d3-05ccb79a9aae?s=1666&amp\;fbclid=IwY2xjawMBjntleHRuA2FlbQIxMABicmlkETExblFhYnlwNTF3dWt0UUhOAR5Kv1ECHMAkK7Z8hH3DZz2mnSmkLGNLFYthufSMVk7Qk1iUH7K4G7Is3NHuug_aem_-Whfc9N353MpWwdi3u-7TQ">RSVP HERE</a></div>\n
LOCATION:The new Dick's House of Sport 1510 Polaris Pkwy Columbus\, Ohio 43240
UID:e.1186.13790
SEQUENCE:3
DTSTAMP:20260419T133847Z
URL:https://business.westervillechamber.com/events/details/kidx-explore-more-event-with-dick-s-house-of-sport-13790
END:VEVENT

END:VCALENDAR
