BEGIN:VCALENDAR
VERSION:2.0
PRODID:-//ChamberMaster//Event Calendar 2.0//EN
METHOD:PUBLISH
X-PUBLISHED-TTL:P3D
REFRESH-INTERVAL:P3D
CALSCALE:GREGORIAN
BEGIN:VEVENT
DTSTART:20260620T170000Z
DTEND:20260620T183000Z
X-MICROSOFT-CDO-ALLDAYEVENT:FALSE
SUMMARY:KidX Touch A Truck
DESCRIPTION:Join us for another exciting KidX event at Polaris Fashion Place! We'll be in our outdoor Polaris Lifestyle Center space (near Benihana\, COhatch\, and Cheesecake Factory) for a Touch-A-Truck event from 1-2:30PM. Programming will include an interactive truck playground for families and children to get up close to their favorite vehicles - and other family friendly entertainment!\n\nKidX events are presented by Aqua-Tots.
X-ALT-DESC;FMTTYPE=text/html:<div>Join us for another exciting KidX event at Polaris Fashion Place! We&#39\;ll be in our outdoor Polaris Lifestyle Center space (near Benihana\, COhatch\, and Cheesecake Factory) for a Touch-A-Truck event from 1-2:30PM. Programming will include an interactive truck playground for families and children to get up close to their favorite vehicles - and other family friendly entertainment!</div>\n\n<div>KidX events are presented by Aqua-Tots.</div>\n
LOCATION:Polaris Fashion Place near The Cheesecake Factory
UID:e.1186.14702
SEQUENCE:3
DTSTAMP:20260425T182956Z
URL:https://business.westervillechamber.com/events/details/kidx-touch-a-truck-06-20-2026-14702
END:VEVENT

END:VCALENDAR
