BEGIN:VCALENDAR
VERSION:2.0
PRODID:-//ChamberMaster//Event Calendar 2.0//EN
METHOD:PUBLISH
X-PUBLISHED-TTL:P3D
REFRESH-INTERVAL:P3D
CALSCALE:GREGORIAN
BEGIN:VEVENT
DTSTART:20210816T190000Z
DTEND:20210819T230000Z
X-MICROSOFT-CDO-ALLDAYEVENT:FALSE
SUMMARY:Leap of Faith Dance Company Open House
DESCRIPTION:We will be hosting our annual Open House\, for dancers and their families to learn more about our dance studio\, meet our staff\, register for 2021 classes\, get your dance uniform\, and more!lThis is a perfect opportunity to meet our teachers and get all of the information you need for the 2021 dance year. \nAugust 16-19\, 3-7 pm\n\n355 Cherrington Rd Westerville\n\nOur studio mission is to use the talents we have been blessed with to help children and adults have fun\, learn to dance\, and understand valuable life lessons through scripture and Christian music.
X-ALT-DESC;FMTTYPE=text/html:<font face="arial\, helvetica\, sans-serif">We will be hosting our&nbsp\;annual Open House\, for dancers and their families to learn more about our dance studio\, meet our staff\, register for 2021 classes\, get your dance uniform\, and more!</font><span style="color:rgb(255\, 255\, 255)\; font-family:arial\,helvetica\,sans-serif">l</span><font face="arial\, helvetica\, sans-serif">This is a perfect opportunity to meet our teachers and get all of the&nbsp\;information you need for the 2021 dance year.&nbsp\;</font>\n<p><span style="font-family:arial\,helvetica\,sans-serif">August 16-19\, 3-7 pm</span><br />\n<span style="font-family:arial\,helvetica\,sans-serif">355 Cherrington Rd Westerville</span></p>\n\n<p><span style="font-family:arial\,helvetica\,sans-serif">Our studio mission is to use the talents we have been blessed with to help children and adults have fun\, learn to dance\, and understand valuable life lessons through scripture and Christian music.</span></p>\n
LOCATION:355 Cherrington Rd Westerville
UID:e.1186.5413
SEQUENCE:3
DTSTAMP:20260422T011126Z
URL:https://business.westervillechamber.com/events/details/leap-of-faith-dance-company-open-house-5413
END:VEVENT

END:VCALENDAR
