BEGIN:VCALENDAR
VERSION:2.0
PRODID:-//ChamberMaster//Event Calendar 2.0//EN
METHOD:PUBLISH
X-PUBLISHED-TTL:P3D
REFRESH-INTERVAL:P3D
CALSCALE:GREGORIAN
BEGIN:VEVENT
DTSTART:20250514T153000Z
DTEND:20250514T163000Z
X-MICROSOFT-CDO-ALLDAYEVENT:FALSE
SUMMARY:Lemonade out of Lemons - Roth IRA Conversions in a Bear Market
DESCRIPTION:We can use the Roth Conversion during a bear market as a tool to:   Reduce future income taxes on investment accounts   Protect against higher future income tax rates   Provide a powerful tax-advantaged estate planning tool Let's squeeze some lemonade from this lemon.
X-ALT-DESC;FMTTYPE=text/html:We can use the Roth Conversion during a bear market as a tool to: &bull\; Reduce future income taxes on investment accounts &bull\; Protect against higher future income tax rates &bull\; Provide a powerful tax-advantaged estate planning tool Let&rsquo\;s squeeze some lemonade from this lemon.
LOCATION:570 Polaris Parkway in the Building Lounge Space
UID:e.1186.13666
SEQUENCE:3
DTSTAMP:20260419T182349Z
URL:https://business.westervillechamber.com/events/details/lemonade-out-of-lemons-roth-ira-conversions-in-a-bear-market-13666
END:VEVENT

END:VCALENDAR
