BEGIN:VCALENDAR
VERSION:2.0
PRODID:-//ChamberMaster//Event Calendar 2.0//EN
METHOD:PUBLISH
X-PUBLISHED-TTL:P3D
REFRESH-INTERVAL:P3D
CALSCALE:GREGORIAN
BEGIN:VEVENT
DTSTART:20251004T180000Z
DTEND:20251004T220000Z
X-MICROSOFT-CDO-ALLDAYEVENT:FALSE
SUMMARY:LIVE @ Polaris presents Boo & Brew\, powered by Wright-Patt Credit Union
DESCRIPTION:Join us for a spooky good time as we celebrate everything fall and Halloween with the return of the annual Boo & Brew event! We'll have a live band\, beer sales\, food trucks\, kids pumpkin decorating\, inflatables\, and more!\n\nThere will be a Halloween costume contest (for dogs and humans)\, hosted by Glinda and Elphaba from Wicked.\n\nFree face painting and balloon twisting for kids!\n\nEvent will take place in the outdoor Polaris Lifestyle Center near Cheesecake Factory\, Benihana\, and COhatch.\n\nLive band: North to Nashville\n\nEvent sponsors include: Wright-Patt Credit Union\, 92.3 The Bus\, 92.3 WCOL\, Epilepsy Alliance of Ohio\n\nMore info: www.PolarisFashionPlace.com/BooandBrew
X-ALT-DESC;FMTTYPE=text/html:<div>Join us for a spooky good time as we celebrate everything fall and Halloween with the return of the annual Boo &amp\; Brew event! We&#39\;ll have a live band\, beer sales\, food trucks\, kids pumpkin decorating\, inflatables\, and more!</div>\n\n<div>There will be a Halloween costume contest (for dogs and humans)\, hosted by Glinda and Elphaba from Wicked.</div>\n\n<div>Free face painting and balloon twisting for kids!</div>\n\n<div>Event will take place in the outdoor Polaris Lifestyle Center near Cheesecake Factory\, Benihana\, and COhatch.</div>\n\n<div>Live band: North to Nashville</div>\n\n<div>Event sponsors include: Wright-Patt Credit Union\, 92.3 The Bus\, 92.3 WCOL\, Epilepsy Alliance of Ohio</div>\n\n<div>More info:&nbsp\;<a class="x1i10hfl xjbqb8w x1ejq31n x18oe1m7 x1sy0etr xstzfhl x972fbf x10w94by x1qhh985 x14e42zd x9f619 x1ypdohk xt0psk2 xe8uvvx xdj266r x14z9mp xat24cr x1lziwak xexx8yu xyri2b x18d9i69 x1c1uobl x16tdsg8 x1hl2dhg xggy1nq x1a2a7pz xkrqix3 x1sur9pj x1fey0fg x1s688f" href="http://www.polarisfashionplace.com/BooandBrew?fbclid=IwZXh0bgNhZW0CMTAAYnJpZBExMW5RYWJ5cDUxd3VrdFFITgEedNfkPpBF7phZebeLa7CufLPv5XUe0HUVqFfkZYnTAAxjAWhITb1IyC82PZ8_aem_L7qGpC-w1jh4JdkfpqS6aA" rel="nofollow noreferrer" style="color: rgb(0\, 100\, 209)\; cursor: pointer\; text-decoration-line: none\; list-style: none\; border-width: 0px\; margin: 0px\; text-align: inherit\; border-style: none\; padding: 0px\; box-sizing: border-box\; background-color: transparent\; outline: none\; -webkit-tap-highlight-color: transparent\; font-weight: 600\; touch-action: manipulation\; display: inline\; font-family: inherit\;" tabindex="0" target="_blank">www.PolarisFashionPlace.com/BooandBrew</a></div>\n
LOCATION:Polaris Fashion Place - center court
UID:e.1186.13791
SEQUENCE:3
DTSTAMP:20260422T221143Z
URL:https://business.westervillechamber.com/events/details/live-polaris-presents-boo-brew-powered-by-wright-patt-credit-union-13791
END:VEVENT

END:VCALENDAR
