BEGIN:VCALENDAR
VERSION:2.0
PRODID:-//ChamberMaster//Event Calendar 2.0//EN
METHOD:PUBLISH
X-PUBLISHED-TTL:P3D
REFRESH-INTERVAL:P3D
CALSCALE:GREGORIAN
BEGIN:VEVENT
DTSTART:20250309T210000Z
DTEND:20250309T230000Z
X-MICROSOFT-CDO-ALLDAYEVENT:FALSE
SUMMARY:Masterworks II features this electrified interstellar voyage by Gustav Holst
DESCRIPTION:SUNDAY\, MARCH 9\, 2025 | 5pm\n\nFRITSCHE THEATRE at COWAN HALL\n\nPeter Stafford Wilson\, conductor\n\n \n\n \nHolst The Planets Adrian Wyard\, video choreography\n\na RON LYKINS CONCERT SERIES performance
X-ALT-DESC;FMTTYPE=text/html:<h6 style="line-height: 1.54em\; background-image: initial\; background-position: 0px 0px\; background-size: initial\; background-repeat: initial\; background-attachment: initial\; background-origin: initial\; background-clip: initial\; border: 0px\; margin: 20px 0px\; padding: 0px\; vertical-align: baseline\; outline: 0px\; font-size: 13px\; font-family: Montserrat\; color: rgb(0\, 0\, 0)\; letter-spacing: 0.15em\; text-transform: uppercase\;">SUNDAY\, MARCH 9\, 2025 | 5pm</h6>\n\n<h6 style="line-height: 1.54em\; background-image: initial\; background-position: 0px 0px\; background-size: initial\; background-repeat: initial\; background-attachment: initial\; background-origin: initial\; background-clip: initial\; border: 0px\; margin: 20px 0px\; padding: 0px\; vertical-align: baseline\; outline: 0px\; font-size: 13px\; font-family: Montserrat\; color: rgb(0\, 0\, 0)\; letter-spacing: 0.15em\; text-transform: uppercase\;">FRITSCHE THEATRE at COWAN HALL</h6>\n\n<h6 style="line-height: 1.54em\; background-image: initial\; background-position: 0px 0px\; background-size: initial\; background-repeat: initial\; background-attachment: initial\; background-origin: initial\; background-clip: initial\; border: 0px\; margin: 20px 0px\; padding: 0px\; vertical-align: baseline\; outline: 0px\; font-size: 13px\; font-family: Montserrat\; color: rgb(0\, 0\, 0)\; letter-spacing: 0.15em\; text-transform: uppercase\;">Peter Stafford Wilson\, conductor</h6>\n\n<h4 style="background-image: initial\; background-position: 0px 0px\; background-size: initial\; background-repeat: initial\; background-attachment: initial\; background-origin: initial\; background-clip: initial\; border: 0px\; margin: 0px 0px 20px\; padding: 0px\; vertical-align: baseline\; outline: 0px\; font-weight: 600\; font-family: &quot\;Crimson Text&quot\;\, serif\; color: rgb(0\, 0\, 0)\; font-size: 35px\; line-height: 1em\;">&nbsp\;</h4>\n\n<div class="vc_empty_space" style="background: 0px 0px\; border: 0px\; margin: 0px\; padding: 0px\; vertical-align: baseline\; outline: 0px\; height: 10px\;">&nbsp\;</div>\n<span style="color: rgb(0\, 0\, 0)\; font-family: Montserrat\, sans-serif\; font-size: 14px\;">Holst</span><em style="background-image: initial\; background-position: 0px 0px\; background-size: initial\; background-repeat: initial\; background-attachment: initial\; background-origin: initial\; background-clip: initial\; border: 0px\; margin: 0px\; padding: 0px\; vertical-align: baseline\; outline: 0px\; color: rgb(0\, 0\, 0)\; font-family: Montserrat\, sans-serif\; font-size: 14px\;">&nbsp\;The Planets</em><span style="color: rgb(0\, 0\, 0)\; font-family: Montserrat\, sans-serif\; font-size: 14px\;">&nbsp\;Adrian Wyard\, video choreography</span>\n\n<h6 style="line-height: 1.54em\; background-image: initial\; background-position: 0px 0px\; background-size: initial\; background-repeat: initial\; background-attachment: initial\; background-origin: initial\; background-clip: initial\; border: 0px\; margin: 20px 0px\; padding: 0px\; vertical-align: baseline\; outline: 0px\; font-size: 13px\; font-family: Montserrat\; color: rgb(0\, 0\, 0)\; letter-spacing: 0.15em\; text-transform: uppercase\;">a RON LYKINS CONCERT SERIES performance</h6>\n
LOCATION:FRITSCHE THEATRE at COWAN HALL
UID:e.1186.13570
SEQUENCE:3
DTSTAMP:20260420T142538Z
URL:https://business.westervillechamber.com/events/details/masterworks-ii-features-this-electrified-interstellar-voyage-by-gustav-holst-13570
END:VEVENT

END:VCALENDAR
