BEGIN:VCALENDAR
VERSION:2.0
PRODID:-//ChamberMaster//Event Calendar 2.0//EN
METHOD:PUBLISH
X-PUBLISHED-TTL:P3D
REFRESH-INTERVAL:P3D
CALSCALE:GREGORIAN
BEGIN:VEVENT
DTSTART:20250423T130000Z
DTEND:20250423T163000Z
X-MICROSOFT-CDO-ALLDAYEVENT:FALSE
SUMMARY:Mental Health Awareness and Vital Cog (Construction) - Virtual
DESCRIPTION:This virtual course is comprised of two sections. The first hour consists of Mental Health Awareness\, followed by a 30 minute break. The second section consists of Vital Cog (construction) training.\n\n9:00am - 10:00am: Mental Health Awareness (MHA) Informational Program brings to the forefront of the workplace mindfulness about overwhelming numbers and types of mental health disorders and best practice ways to deal with challenges.\n\n10:30am - 12:00pm - Vital Cog gives participants a 2-hour training on skills and tools to appreciate the critical need for suicide prevention while creating a forum for dialogue and critical thinking about workplace mental health challenges\, and by promoting help-seeking and help-giving. With a focus of general workplace.
X-ALT-DESC;FMTTYPE=text/html:<p><strong>This virtual course is comprised of two sections. The first hour consists of Mental Health Awareness\, followed by a 30 minute break. The second section consists of Vital Cog (construction) training.</strong></p>\n\n<p><strong>9:00am - 10:00am:</strong> Mental Health Awareness (MHA) Informational Program brings to the forefront of the workplace mindfulness about overwhelming numbers and types of mental health disorders and best practice ways to deal with challenges.</p>\n\n<p><strong>10:30am - 12:00pm</strong> - Vital Cog gives participants a 2-hour training on skills and tools to appreciate the critical need for suicide prevention while creating a forum for dialogue and critical thinking about workplace mental health challenges\, and by promoting help-seeking and help-giving. With a focus of general workplace.</p>\n
LOCATION:Virtual Training course via Zoom.
UID:e.1186.13137
SEQUENCE:3
DTSTAMP:20260419T230920Z
URL:https://business.westervillechamber.com/events/details/mental-health-awareness-and-vital-cog-construction-virtual-13137
END:VEVENT

END:VCALENDAR
