BEGIN:VCALENDAR
VERSION:2.0
PRODID:-//ChamberMaster//Event Calendar 2.0//EN
METHOD:PUBLISH
X-PUBLISHED-TTL:P3D
REFRESH-INTERVAL:P3D
CALSCALE:GREGORIAN
BEGIN:VEVENT
DTSTART:20240620T130000Z
DTEND:20240620T163000Z
X-MICROSOFT-CDO-ALLDAYEVENT:FALSE
SUMMARY:Mental Health Awareness and Vital Cog (General Industry Workplace)
DESCRIPTION:This virtual course is comprised of two sections. The first hour consists of Mental Health Awareness\, followed by a 30 minute break. The second section consists of Vital Cog (general industry workplace) training.\n\n9:00am   10:00am: Mental Health Awareness (MHA) Informational Program brings to the forefront of the workplace mindfulness about overwhelming numbers and types of mental health disorders and best practice ways to deal with challenges.\n\n10:30am   12:30pm   Vital Cog gives participants a 2-hour training on skills and tools to appreciate the critical need for suicide prevention while creating a forum for dialogue and critical thinking about workplace mental health challenges\, and by promoting help-seeking and help-giving. With a focus of general workplace.\n\nParticipants will receive a certificate of completion for this course.\n\n\n\nYou can register for this event HERE.
X-ALT-DESC;FMTTYPE=text/html:<p style="box-sizing: border-box\; margin: 0px\; padding: 0px 0px 1em\; border: 0px\; outline: 0px\; font-size: 17px\; text-size-adjust: 100%\; vertical-align: baseline\; background-image: initial\; background-position: 0px 0px\; background-size: initial\; background-repeat: initial\; background-attachment: initial\; background-origin: initial\; background-clip: initial\; font-family: &quot\;Open Sans&quot\;\; color: rgb(63\, 63\, 63)\;"><span style="box-sizing: border-box\; margin: 0px\; padding: 0px\; border: 0px\; outline: 0px\; text-size-adjust: 100%\; vertical-align: baseline\; background: 0px 0px\; font-weight: 700\;">This virtual course is comprised of two sections. The first hour consists of Mental Health Awareness\, followed by a 30 minute break. The second section consists of Vital Cog (general industry workplace) training.</span></p>\n\n<p class="x_xmsonormal" style="box-sizing: border-box\; margin: 0px\; padding: 0px 0px 1em\; border: 0px\; outline: 0px\; font-size: 17px\; text-size-adjust: 100%\; vertical-align: baseline\; background-image: initial\; background-position: 0px 0px\; background-size: initial\; background-repeat: initial\; background-attachment: initial\; background-origin: initial\; background-clip: initial\; font-family: &quot\;Open Sans&quot\;\; color: rgb(63\, 63\, 63)\;"><span style="box-sizing: border-box\; margin: 0px\; padding: 0px\; border: 0px\; outline: 0px\; text-size-adjust: 100%\; vertical-align: baseline\; background: 0px 0px\; font-weight: 700\;">9:00am &ndash\; 10:00am:</span>&nbsp\;Mental Health Awareness (MHA) Informational Program brings to the forefront of the workplace mindfulness about overwhelming numbers and types of mental health disorders and best practice ways to deal with challenges.</p>\n\n<p style="box-sizing: border-box\; margin: 0px\; padding: 0px 0px 1em\; border: 0px\; outline: 0px\; font-size: 17px\; text-size-adjust: 100%\; vertical-align: baseline\; background-image: initial\; background-position: 0px 0px\; background-size: initial\; background-repeat: initial\; background-attachment: initial\; background-origin: initial\; background-clip: initial\; font-family: &quot\;Open Sans&quot\;\; color: rgb(63\, 63\, 63)\;"><span style="box-sizing: border-box\; margin: 0px\; padding: 0px\; border: 0px\; outline: 0px\; text-size-adjust: 100%\; vertical-align: baseline\; background: 0px 0px\; font-weight: 700\;">10:30am &ndash\; 12:30pm</span>&nbsp\;&ndash\; Vital Cog gives participants a 2-hour training on skills and tools to appreciate the critical need for suicide prevention while creating a forum for dialogue and critical thinking about workplace mental health challenges\, and by promoting help-seeking and help-giving. With a focus of general workplace.</p>\n\n<p class="x_xmsonormal" style="box-sizing: border-box\; margin: 0px\; padding: 0px\; border: 0px\; outline: 0px\; font-size: 17px\; text-size-adjust: 100%\; vertical-align: baseline\; background-image: initial\; background-position: 0px 0px\; background-size: initial\; background-repeat: initial\; background-attachment: initial\; background-origin: initial\; background-clip: initial\; font-family: &quot\;Open Sans&quot\;\; color: rgb(63\, 63\, 63)\;">Participants will receive a certificate of completion for this course.<br />\n<br />\nYou can register for this event <a href="https://www.safex.us/product/mental-health-awareness-and-vital-cog-in-the-workplace/">HERE</a>.</p>\n
LOCATION:Virtual via Zoom\, Register HERE
UID:e.1186.12194
SEQUENCE:3
DTSTAMP:20260420T142655Z
URL:https://business.westervillechamber.com/events/details/mental-health-awareness-and-vital-cog-general-industry-workplace-12194
END:VEVENT

END:VCALENDAR
