BEGIN:VCALENDAR
VERSION:2.0
PRODID:-//ChamberMaster//Event Calendar 2.0//EN
METHOD:PUBLISH
X-PUBLISHED-TTL:P3D
REFRESH-INTERVAL:P3D
CALSCALE:GREGORIAN
BEGIN:VEVENT
DTSTART:20250309T200000Z
DTEND:20250309T220000Z
X-MICROSOFT-CDO-ALLDAYEVENT:FALSE
SUMMARY:Mini Photo Sessions in Studio
DESCRIPTION:These mini photoshoots are perfect for families\, couples\, or children looking for updated photos inside our cozy studio! We are located near the Chamber office in Westerville. With over 15 years experience\, our process is easy for you and fun for the kids!
X-ALT-DESC;FMTTYPE=text/html:These mini photoshoots are perfect for families\, couples\, or children looking for updated photos inside our cozy studio! We are located near the Chamber office in Westerville. With over 15 years experience\, our process is easy for you and fun for the kids!&nbsp\;
LOCATION:Westerville\, Ohio indoor photo studio
UID:e.1186.13504
SEQUENCE:3
DTSTAMP:20260420T004225Z
URL:https://business.westervillechamber.com/events/details/mini-photo-sessions-in-studio-13504
END:VEVENT

END:VCALENDAR
