BEGIN:VCALENDAR
VERSION:2.0
PRODID:-//ChamberMaster//Event Calendar 2.0//EN
METHOD:PUBLISH
X-PUBLISHED-TTL:P3D
REFRESH-INTERVAL:P3D
CALSCALE:GREGORIAN
BEGIN:VEVENT
DTSTART;VALUE=DATE:20220314
DTEND;VALUE=DATE:20220315
TRANSP:TRANSPARENT
X-MICROSOFT-CDO-ALLDAYEVENT:TRUE
SUMMARY:Mobile Mondays are BACK!
DESCRIPTION:It's Mobile Mondays here at Chick-fil-A Easton Town Center! Scan your Chick-fil-A App and we will upload a free treat to your account.  Many ways to use your Chick-fil-A App: Mobile Drive-Thru\, Mobile Dine-In\, or Mobile Carry Out. Just that easy for your take full advantage to earn a free treats.  Don't have the App? You can download from your App Store or Google Play\, Create an account and then Scan your code at Chick-fil-A Easton Town Center and start earning points for free treats!
X-ALT-DESC;FMTTYPE=text/html:It&#39\;s Mobile Mondays here at Chick-fil-A Easton Town Center! Scan your Chick-fil-A App and we will upload a free treat to your account. &nbsp\;Many ways to use your Chick-fil-A App: Mobile Drive-Thru\, Mobile Dine-In\, or Mobile Carry Out. Just that easy for your take full advantage to earn a free treats. &nbsp\;Don&#39\;t have the App? You can download from your App Store or Google Play\, Create an account and then Scan your code at Chick-fil-A Easton Town Center and start earning points for free treats!&nbsp\;
LOCATION:Chick-fil-A Easton Town Center 3940 Morse Rd Columbus\, OH 43219
UID:e.1186.5672
SEQUENCE:3
DTSTAMP:20260422T013824Z
URL:https://business.westervillechamber.com/events/details/mobile-mondays-are-back-03-14-2022-5672
END:VEVENT

END:VCALENDAR
