BEGIN:VCALENDAR
VERSION:2.0
PRODID:-//ChamberMaster//Event Calendar 2.0//EN
METHOD:PUBLISH
X-PUBLISHED-TTL:P3D
REFRESH-INTERVAL:P3D
CALSCALE:GREGORIAN
BEGIN:VEVENT
DTSTART:20250807T220000Z
DTEND:20250807T230000Z
X-MICROSOFT-CDO-ALLDAYEVENT:FALSE
SUMMARY:Money $ense: Credit Workshop
DESCRIPTION:Money Sense: Credit\n\nJoin us on Thursday\, August 7\, 2025 at 6 PM for a workshop at WARM (Westerville Area Resource Ministry).\n\nThis workshop is free and open to the Community\n\nMoney Sense: Credit\n\nYour credit score matters\, and it is important to know how it is calculated. Learn how to build\, improve\, and keep your credit score strong.
X-ALT-DESC;FMTTYPE=text/html:<p>Money Sense: Credit</p>\n\n<p>Join us on Thursday\, August 7\, 2025 at 6 PM for a workshop at WARM (Westerville Area Resource Ministry).</p>\n\n<p><span style="color:rgb(41\, 128\, 185)">This workshop is&nbsp\;<em>free</em>&nbsp\;and open to the Community</span></p>\n\n<p><span style="color:rgb(0\, 0\, 0)"><u>Money Sense: Credit</u></span><br />\nYour credit score matters\, and it is important to know how it is calculated. Learn how to build\, improve\, and keep your credit score strong.</p>\n
LOCATION:WARM (Westerville Area Resource Ministry) 150 Heatherdown Dr. Westerville\, OH 43081
UID:e.1186.13773
SEQUENCE:3
DTSTAMP:20260419T130340Z
URL:https://business.westervillechamber.com/events/details/money-ense-credit-workshop-13773
END:VEVENT

END:VCALENDAR
