BEGIN:VCALENDAR
VERSION:2.0
PRODID:-//ChamberMaster//Event Calendar 2.0//EN
METHOD:PUBLISH
X-PUBLISHED-TTL:P3D
REFRESH-INTERVAL:P3D
CALSCALE:GREGORIAN
BEGIN:VEVENT
DTSTART;VALUE=DATE:20210817
DTEND;VALUE=DATE:20210818
TRANSP:TRANSPARENT
X-MICROSOFT-CDO-ALLDAYEVENT:TRUE
SUMMARY:Mystery Theme Row House Workout
DESCRIPTION:Ideal for everyone from first timers to experienced rowers\, our most popular class is a signature mix of music-driven rowing intervals and low impact\, full body floor exercises. Get ready to enjoy the benefits of full-body cardio along with the strengthening and toning of your muscles! Our Signature class also increases your flexibility and improves your posture in this ultimate "All in One" workout for all levels of fitness.
X-ALT-DESC;FMTTYPE=text/html:Ideal for everyone from first timers to experienced rowers\, our most popular class is a signature mix of music-driven rowing intervals and low impact\, full body floor exercises. Get ready to enjoy the benefits of full-body cardio along with the strengthening and toning of your muscles! Our Signature class also increases your flexibility and improves your posture in this ultimate &quot\;All in One&quot\; workout for all levels of fitness.&nbsp\;
LOCATION:Row House Polaris 1509 Gemini Pl Columbus\, 43240
UID:e.1186.5437
SEQUENCE:3
DTSTAMP:20260422T010927Z
URL:https://business.westervillechamber.com/events/details/mystery-theme-row-house-workout-5437
END:VEVENT

END:VCALENDAR
