BEGIN:VCALENDAR
VERSION:2.0
PRODID:-//ChamberMaster//Event Calendar 2.0//EN
METHOD:PUBLISH
X-PUBLISHED-TTL:P3D
REFRESH-INTERVAL:P3D
CALSCALE:GREGORIAN
BEGIN:VEVENT
DTSTART:20210805T150000Z
DTEND:20210805T190000Z
X-MICROSOFT-CDO-ALLDAYEVENT:FALSE
SUMMARY:NOW HIRING - Hattie Larlham
DESCRIPTION:OPEN INTERVIEWS!  NOW HIRING FOR:\n\n	Direct Support Professional (DSP)\n	Licensed Practical Nurse (LPN)\n	Activity Leader - AddVentures Adult Day Program\n	Custodian/Driver - AddVentures Adult Day Program\n	Early Intervention Specialist - Dahlberg Gibson Learning Center\n	Assistant Teacher - Dahlberg Gibson Learning Center\n	Teacher Aide - Dahlberg Gibson Learning Center\n	Discovery Specialist - Employment Services\n	New Hire Orientation Trainer (Part-Time) - Professional Development\n\nEnjoy Great Benefits at Hattie Larlham\n\n\n	Retention bonus for eligible positions\n	Flexible schedules & paid training\n	Casual dress code\n	Home-like work environment\n	Paid Time Off (PTO)\n	Health insurance starting at 30 hours/week\n	Career growth and personal development\n	Employee wellness & recognition programs\n	Competitive pay\n	Continuing education credits\n	Employee discount programs\n\nABOUT THE AGENCY: Hattie Larlham is a nonprofit organization dedicated to creating opportunities\, advancing the community and influencing change for nearly 1\,600 children and adults with intellectual and developmental disabilities. Hattie Larlham provides medical\, recreational\, work training and residential services to children and adults with developmental disabilities throughout Northeast and Central Ohio
X-ALT-DESC;FMTTYPE=text/html:OPEN INTERVIEWS!&nbsp\; NOW HIRING FOR:\n<ul>\n	<li>Direct Support Professional (DSP)</li>\n	<li>Licensed Practical Nurse (LPN)</li>\n	<li>Activity Leader - AddVentures Adult Day Program</li>\n	<li>Custodian/Driver - AddVentures Adult Day Program</li>\n	<li>Early Intervention Specialist - Dahlberg Gibson Learning Center</li>\n	<li>Assistant Teacher - Dahlberg Gibson Learning Center</li>\n	<li>Teacher Aide - Dahlberg Gibson Learning Center</li>\n	<li>Discovery Specialist - Employment Services</li>\n	<li>New Hire Orientation Trainer (Part-Time) - Professional Development</li>\n</ul>\nEnjoy Great Benefits at Hattie Larlham\n\n<ul>\n	<li>Retention bonus for eligible positions</li>\n	<li>Flexible schedules &amp\; paid training</li>\n	<li>Casual dress code</li>\n	<li>Home-like work environment</li>\n	<li>Paid Time Off (PTO)</li>\n	<li>Health insurance starting at 30 hours/week</li>\n	<li>Career growth and personal development</li>\n	<li>Employee wellness &amp\; recognition programs</li>\n	<li>Competitive pay</li>\n	<li>Continuing education credits</li>\n	<li>Employee discount programs</li>\n</ul>\nABOUT THE AGENCY: Hattie Larlham is a nonprofit organization dedicated to creating opportunities\, advancing the community and influencing change for nearly 1\,600 children and adults with intellectual and developmental disabilities. Hattie Larlham provides medical\, recreational\, work training and residential services to children and adults with developmental disabilities throughout Northeast and Central Ohio
LOCATION:769 Brooksedge Blvd. Westerville\, OH 43081
UID:e.1186.5426
SEQUENCE:3
DTSTAMP:20260422T011041Z
URL:https://business.westervillechamber.com/events/details/now-hiring-hattie-larlham-5426
END:VEVENT

END:VCALENDAR
