BEGIN:VCALENDAR
VERSION:2.0
PRODID:-//ChamberMaster//Event Calendar 2.0//EN
METHOD:PUBLISH
X-PUBLISHED-TTL:P3D
REFRESH-INTERVAL:P3D
CALSCALE:GREGORIAN
BEGIN:VEVENT
DTSTART:20230826T130000Z
DTEND:20230826T160000Z
X-MICROSOFT-CDO-ALLDAYEVENT:FALSE
SUMMARY:Ohio State Outpatient Care New Albany: Friends & Family Day
DESCRIPTION:Outpatient Care New Albany will open their doors to offer a day of free education\, health screenings\, giveaways and more! The Ambulatory Surgery Center Operating Rooms will be open for mock surgeries as well as Outpatient Rehab where participants can try different agility and balance tasks. You might even see Brutus or one of our Buckeye Paws dogs!\n\n\n\nRegistration not required.  \n\n \n\nThis event will also offer reduced cost  Mammograms on site (or potentially free- depending on your insurance coverage). Schedule your Mammo for this event by calling: Kim at #614-293-4772
X-ALT-DESC;FMTTYPE=text/html:Outpatient Care New Albany will open their doors to offer a day of free education\, health screenings\, giveaways and more! The Ambulatory Surgery Center Operating Rooms will be open for mock surgeries as well as Outpatient Rehab where participants can try different agility and balance tasks. You might even see Brutus or one of our Buckeye Paws dogs!<br />\n<br />\n<em>Registration not required.&nbsp\;&nbsp\;</em><br />\n&nbsp\;<br />\n<span style="font-family:cambria\,serif"><span style="font-size:11.0pt">This event will also offer reduced cost&nbsp\; Mammograms on site </span></span><span style="font-family:cambria\,serif\; font-size:14.6667px">(<em>or potentially free- depending on your insurance coverage</em>)</span><span style="font-family:cambria\,serif"><span style="font-size:11.0pt">. Schedule your Mammo for this event by calling:</span></span> <span style="font-family:cambria\,serif"><span style="font-size:11.0pt">Kim at #614-293-4772</span></span>
LOCATION:Outpatient Care New Albany\, 6100 N Hamilton Road\, in Hamilton Quarters
UID:e.1186.10113
SEQUENCE:3
DTSTAMP:20260420T231045Z
URL:https://business.westervillechamber.com/events/details/ohio-state-outpatient-care-new-albany-friends-family-day-10113
END:VEVENT

END:VCALENDAR
