BEGIN:VCALENDAR
VERSION:2.0
PRODID:-//ChamberMaster//Event Calendar 2.0//EN
METHOD:PUBLISH
X-PUBLISHED-TTL:P3D
REFRESH-INTERVAL:P3D
CALSCALE:GREGORIAN
BEGIN:VEVENT
DTSTART;VALUE=DATE:20251022
DTEND;VALUE=DATE:20251023
TRANSP:TRANSPARENT
X-MICROSOFT-CDO-ALLDAYEVENT:TRUE
SUMMARY:Carrabba's Italian Grill Orin Swift Wine Dinner
DESCRIPTION:One experience. Five courses. Endless stories. Join us for a sensory journey that goes for beyond the label.\n\nThis October\, we're uncorking something truly special-a wine dinner that is equal parts art\, passion and indulgence. Dive into the world of Orin Swift Cellars\, where every bottles is a masterpiece and every label tells a tale. Renowned for their daring designs and expressive blends\, Orin Swift Cellars wines invite you to look beyond the surface. Paired with five expertly crafted Italian courses\, each pour brings a new layer of meaning to the table.
X-ALT-DESC;FMTTYPE=text/html:One experience. Five courses. Endless stories. Join us for a sensory journey that goes for beyond the label.<br />\nThis October\, we&rsquo\;re uncorking something truly special-a wine dinner that is equal parts art\, passion and indulgence. Dive into the world of Orin Swift Cellars\, where every bottles is a masterpiece and every label tells a tale. Renowned for their daring designs and expressive blends\, Orin Swift Cellars wines invite you to look beyond the surface. Paired with five expertly crafted Italian courses\, each pour brings a new layer of meaning to the table.
LOCATION:8460 Lyra Dr\, Columbus\, OH 43240
UID:e.1186.14010
SEQUENCE:3
DTSTAMP:20260422T221021Z
URL:https://business.westervillechamber.com/events/details/orin-swift-wine-dinner-10-22-2025-14010
END:VEVENT

END:VCALENDAR
