BEGIN:VCALENDAR
VERSION:2.0
PRODID:-//ChamberMaster//Event Calendar 2.0//EN
METHOD:PUBLISH
X-PUBLISHED-TTL:P3D
REFRESH-INTERVAL:P3D
CALSCALE:GREGORIAN
BEGIN:VEVENT
DTSTART:20251116T050000Z
DTEND:20251116T050000Z
X-MICROSOFT-CDO-ALLDAYEVENT:FALSE
SUMMARY:OSU Delaware Alumni Club - Pull Tab Collection
DESCRIPTION:The OSU Alumni Club of Delaware County supports the Ronald McDonald House of Columbus by collecting and donating pull tabs. The Ronald McDonald House of Columbus has a friendly pull tab competition with the Ronald McDonald House of Ann Arbor leading up to the big game against TTUN.  \n\n\n\nStart saving those pull tabs for the 2026 competition. Every tab from soda\, beer\, veggies\, soup and pet food helps. We'll gather them at the end of October 2026.  Pull tabs are recycled for cash to help support RMH. Families of children who are being treated at Children's Hospital stay in RMH.\n\n\n \n\n\nIndividuals\, businesses\, schools or other organizations interested in helping\, please email us at osualumniclubdelaware@gmail.com.
X-ALT-DESC;FMTTYPE=text/html:<div>\n<div>The OSU Alumni Club of Delaware County supports the Ronald McDonald House of Columbus by collecting and donating pull tabs.&nbsp\;The Ronald McDonald House of Columbus has a friendly pull tab competition with the Ronald McDonald House of Ann Arbor leading up to the big game against TTUN.&nbsp\;&nbsp\;<br />\n<br />\nStart saving those pull tabs for the 2026 competition. Every tab from soda\, beer\, veggies\, soup and pet food helps. We&#39\;ll gather them at the end of October 2026.&nbsp\; Pull tabs are recycled for cash to help support RMH. Families of children who are being treated at Children&#39\;s Hospital stay in RMH.</div>\n</div>\n\n<div>&nbsp\;</div>\n\n<div>\n<div>Individuals\, businesses\, schools or other organizations interested in helping\, please email us at osualumniclubdelaware@gmail.com.</div>\n</div>\n
LOCATION:Not applicable
UID:e.1186.14054
SEQUENCE:3
DTSTAMP:20260422T231942Z
URL:https://business.westervillechamber.com/events/details/osu-delaware-alumni-club-pull-tab-collection-14054
END:VEVENT

END:VCALENDAR
