BEGIN:VCALENDAR
VERSION:2.0
PRODID:-//ChamberMaster//Event Calendar 2.0//EN
METHOD:PUBLISH
X-PUBLISHED-TTL:P3D
REFRESH-INTERVAL:P3D
CALSCALE:GREGORIAN
BEGIN:VEVENT
DTSTART:20230926T220000Z
DTEND:20230927T000000Z
X-MICROSOFT-CDO-ALLDAYEVENT:FALSE
SUMMARY:Pairings with Alpha
DESCRIPTION:Celebrating our community partners and the achievements of those we serve.  Food & beverage samples will be provided.
X-ALT-DESC;FMTTYPE=text/html:Celebrating our community partners and the achievements of those we serve.&nbsp\; Food &amp\; beverage samples will be provided.
LOCATION:The Farm at Harvest Hills 670 Hills-Miller Rd. Delaware\, OH
UID:e.1186.10322
SEQUENCE:3
DTSTAMP:20260420T230641Z
URL:https://business.westervillechamber.com/events/details/pairings-with-alpha-10322
END:VEVENT

END:VCALENDAR
