BEGIN:VCALENDAR
VERSION:2.0
PRODID:-//ChamberMaster//Event Calendar 2.0//EN
METHOD:PUBLISH
X-PUBLISHED-TTL:P3D
REFRESH-INTERVAL:P3D
CALSCALE:GREGORIAN
BEGIN:VEVENT
DTSTART;VALUE=DATE:20250329
DTEND;VALUE=DATE:20250330
TRANSP:TRANSPARENT
X-MICROSOFT-CDO-ALLDAYEVENT:TRUE
SUMMARY:Photos with Bunny\, presented by I Scream Gelato
DESCRIPTION:Get into the Easter spirit with Bunny at Polaris Fashion Place! Capture the magic of spring with Bunny starting March 21 through April 19 for a fun Easter photo experience. Book your reservation online to save time\, plus receive a complimentary gift valued at $20! Walk-ups are also welcome.\n\nThis year?s theme is Alice in Wonderland ? ?follow the white rabbit? all the way to Center Court!\n\nPhotos with Bunny is presented by I Scream Gelato. All kids that visit with Bunny will receive a coupon good for (1) free small gelato at I Scream Gelato.\n\nLearn More ? https://polarisfashionplace.com/easter/
X-ALT-DESC;FMTTYPE=text/html:<div>Get into the Easter spirit with Bunny at Polaris Fashion Place! Capture the magic of spring with Bunny starting March 21 through April 19 for a fun Easter photo experience. Book your reservation online to save time\, plus receive a complimentary gift valued at $20! Walk-ups are also welcome.</div>\n\n<div>This year?s theme is Alice in Wonderland ? ?follow the white rabbit? all the way to Center Court!</div>\n\n<div>Photos with Bunny is presented by I Scream Gelato. All kids that visit with Bunny will receive a coupon good for (1) free small gelato at I Scream Gelato.</div>\n\n<div>Learn More ?&nbsp\;<a class="x1i10hfl xjbqb8w x1ejq31n xd10rxx x1sy0etr x17r0tee x972fbf xcfux6l x1qhh985 xm0m39n x9f619 x1ypdohk xt0psk2 xe8uvvx xdj266r x11i5rnm xat24cr x1mh8g0r xexx8yu x4uap5 x18d9i69 xkhd6sd x16tdsg8 x1hl2dhg xggy1nq x1a2a7pz x1sur9pj xkrqix3 x1fey0fg x1s688f" href="https://polarisfashionplace.com/easter/?fbclid=IwZXh0bgNhZW0CMTAAAR0-25LL6MB5pIeepa1L2eKgYerE0g7gcXeoqDE9qIWpF2KICIwzd9iJZik_aem_GxbTdFiJ5zSj0kP0NQxJaA" rel="nofollow noreferrer" style="color: var(--blue-link)\; cursor: pointer\; text-decoration-line: none\; list-style: none\; margin: 0px\; text-align: inherit\; border-style: none\; padding: 0px\; box-sizing: border-box\; border-width: 0px\; outline: none\; -webkit-tap-highlight-color: transparent\; font-weight: 600\; touch-action: manipulation\; background-color: transparent\; display: inline\; font-family: inherit\;" tabindex="0" target="_blank">https://polarisfashionplace.com/easter/</a></div>\n
LOCATION:Polaris Fashion Place - Center Court
UID:e.1186.13561
SEQUENCE:3
DTSTAMP:20260420T004436Z
URL:https://business.westervillechamber.com/events/details/photos-with-bunny-presented-by-i-scream-gelato-03-29-2025-13561
END:VEVENT

END:VCALENDAR
