BEGIN:VCALENDAR
VERSION:2.0
PRODID:-//ChamberMaster//Event Calendar 2.0//EN
METHOD:PUBLISH
X-PUBLISHED-TTL:P3D
REFRESH-INTERVAL:P3D
CALSCALE:GREGORIAN
BEGIN:VEVENT
DTSTART:20220908T213000Z
DTEND:20220909T000000Z
X-MICROSOFT-CDO-ALLDAYEVENT:FALSE
SUMMARY:Pianos at the Point
DESCRIPTION:Join us for a night of entertainment with dueling pianos\, live and silent auctions\, a 50/50 raffle\, and food and drinks on the playlist!\n\n\n\nTickets are $75 and include entertainment\, heavy appetizers\, desserts\, and two drink tickets.  Your group can purchase a table for six for only $375.  Tickets can be purchased online at MySourcePoint.org/events or by calling 740-363-6677.\n\n\n\nSourcePoint was founded on a vision of a community in which every person 55 and better is empowered to set a course to live well.  You can be a part of our community as we make beautiful music together for the next 30 years!
X-ALT-DESC;FMTTYPE=text/html:Join us for a night of entertainment with dueling pianos\, live and silent auctions\, a 50/50 raffle\, and food and drinks on the playlist!<br />\n<br />\nTickets are $75 and include entertainment\, heavy appetizers\, desserts\, and two drink tickets.&nbsp\; Your group can purchase a table for six for only $375.&nbsp\; Tickets can be purchased online at <a href="http://MySourcePoint.org/events">MySourcePoint.org/events</a> or by calling 740-363-6677.<br />\n<br />\nSourcePoint was founded on a vision of a community in which every person 55 and better is empowered to set a course to live well.&nbsp\; You can be a part of our community as we make beautiful music together for the next 30 years!
LOCATION:800 Cheshire Rd. Delaware\, OH 43015
UID:e.1186.7236
SEQUENCE:3
DTSTAMP:20260421T165140Z
URL:https://business.westervillechamber.com/events/details/pianos-at-the-point-7236
END:VEVENT

END:VCALENDAR
