BEGIN:VCALENDAR
VERSION:2.0
PRODID:-//ChamberMaster//Event Calendar 2.0//EN
METHOD:PUBLISH
X-PUBLISHED-TTL:P3D
REFRESH-INTERVAL:P3D
CALSCALE:GREGORIAN
BEGIN:VEVENT
DTSTART:20251009T200000Z
DTEND:20251009T230000Z
X-MICROSOFT-CDO-ALLDAYEVENT:FALSE
SUMMARY:Pickle With Purpose - Annual Charity Event Presented by Lehman Daman
DESCRIPTION:Join us for Pickle with Purpose\, a vibrant\, community-driven rally for good presented by Lehman Daman. This one-of-a-kind event brings together the fast-growing fun of pickleball with a powerful mission: to support local nonprofits making a real impact. \n\n \n\nThis year's Pickle with Purpose will proudly support Pilot Dogs\, a local non-profit organization that empowers individuals who are blind or visually impaired to live more independently here in Ohio and across the United States. Funds raised will help Pilot Dogs launch Camp M.O.V.E. (Mobility\, Opportunity\, Venture\, Explore) the week of July 20\, 2026. This completely free\, week-long summer program for 14- to 17-year-olds will offer specialized orientation & mobility and guide dog readiness training\, a unique opportunity as one of only three such programs nationwide. Our $60\,000 fundraising goal will help to sustain the program for its first two years.
X-ALT-DESC;FMTTYPE=text/html:<span style="font-size:11.0pt">Join us for <a href="https://www.lehmandaman.com/pickle-with-purpose"><em>Pickle with Purpose</em></a>\, a vibrant\, community-driven rally for good presented by Lehman Daman. This one-of-a-kind event brings together the fast-growing fun of pickleball with a powerful mission: to support local nonprofits making a real impact. </span><br />\n&nbsp\;<br />\n<span style="font-size:11.0pt">This year&#39\;s <em>Pickle with Purpose</em> will proudly support Pilot Dogs\, a local non-profit organization that empowers individuals who are blind or visually impaired to live more independently here in Ohio and across the United States.&nbsp\;Funds raised will help Pilot Dogs launch <em>Camp M.O.V.E.</em> (Mobility\, Opportunity\, Venture\, Explore) the week of July 20\, 2026. This completely free\, week-long summer program for 14- to 17-year-olds will offer specialized orientation &amp\; mobility and guide dog readiness training\, a unique opportunity as one of only three such programs nationwide. Our $60\,000 fundraising goal will help to sustain the program for its first two years.</span>
LOCATION:Smash Park
UID:e.1186.13733
SEQUENCE:3
DTSTAMP:20260422T221112Z
URL:https://business.westervillechamber.com/events/details/pickle-with-purpose-annual-charity-event-presented-by-lehman-daman-13733
END:VEVENT

END:VCALENDAR
