BEGIN:VCALENDAR
VERSION:2.0
PRODID:-//ChamberMaster//Event Calendar 2.0//EN
METHOD:PUBLISH
X-PUBLISHED-TTL:P3D
REFRESH-INTERVAL:P3D
CALSCALE:GREGORIAN
BEGIN:VEVENT
DTSTART:20250208T180000Z
DTEND:20250208T210000Z
X-MICROSOFT-CDO-ALLDAYEVENT:FALSE
SUMMARY:Princess Tea Party/Nerf Mania Event
DESCRIPTION:Join us for an afternoon of fancy and outrageous fun! Activities will include games\, crafts and of course dancing taught by the LOFDC Company dancers. All proceeds will benefit the LOFDC Company Program.
X-ALT-DESC;FMTTYPE=text/html:Join us for an afternoon of fancy and outrageous fun! Activities will include games\, crafts and of course dancing taught by the LOFDC Company dancers. All proceeds will benefit the LOFDC Company Program.
LOCATION:Leap of Faith Dance Company 355 Cherrington Road Westerville\, Ohio 43081
UID:e.1186.13486
SEQUENCE:3
DTSTAMP:20260419T212906Z
URL:https://business.westervillechamber.com/events/details/princess-tea-party-nerf-mania-event-13486
END:VEVENT

END:VCALENDAR
