BEGIN:VCALENDAR
VERSION:2.0
PRODID:-//ChamberMaster//Event Calendar 2.0//EN
METHOD:PUBLISH
X-PUBLISHED-TTL:P3D
REFRESH-INTERVAL:P3D
CALSCALE:GREGORIAN
BEGIN:VEVENT
DTSTART:20260908T120000Z
DTEND:20260908T133000Z
X-MICROSOFT-CDO-ALLDAYEVENT:FALSE
SUMMARY:Quarterly Membership Luncheon - September 2026
DESCRIPTION:Data Center Deep Dive: What's Coming & How to Prepare
X-ALT-DESC;FMTTYPE=text/html:<div style="text-align: center\;"><font face="tahoma"><span style="font-size: 16px\;"><b>Data Center Deep Dive: What&#39\;s Coming &amp\; How to Prepare</b></span></font><span style="display: none\;">&nbsp\;</span></div>\n
LOCATION:Embassy Suites by Hilton Columbus 2700 Corporate Exchange Dr. Columbus\, OH 43231
UID:e.1186.14100
SEQUENCE:3
DTSTAMP:20260420T004303Z
URL:https://business.westervillechamber.com/events/details/quarterly-membership-luncheon-september-2026-14100
END:VEVENT

END:VCALENDAR
