BEGIN:VCALENDAR
VERSION:2.0
PRODID:-//ChamberMaster//Event Calendar 2.0//EN
METHOD:PUBLISH
X-PUBLISHED-TTL:P3D
REFRESH-INTERVAL:P3D
CALSCALE:GREGORIAN
BEGIN:VEVENT
DTSTART:20241003T160000Z
DTEND:20241003T170000Z
X-MICROSOFT-CDO-ALLDAYEVENT:FALSE
SUMMARY:Real Estate Seminar hosted by Traction Wealth Advisors
DESCRIPTION:You are invited to this complimentary seminar covering important real estate considerations for you and your family. Jason Buehner\, along with two guest panelists\, will share their insights surrounding the current real estate market and the recent changes to agent commissions and associated transaction responsibility. This seminar is one you will not want to miss if you are looking to invest in real estate or you are looking to help a family member with a home purchase.\n\n \n\nIf you or someone you care about is interested in attending this seminar\, click the link below\n\nhttps://events.teams.microsoft.com/event/e5499559-1de9-4d18-8946-46835876edf3@7855c2e1-437a-4870-9615-daaacaed4348
X-ALT-DESC;FMTTYPE=text/html:<span style="font-size:12px"><span style="color:#242424">You are invited to this complimentary seminar covering important real estate considerations for you and your family. Jason Buehner\, along with two guest panelists\, will share their insights surrounding the current real estate market and the recent changes to agent commissions and associated transaction responsibility. This seminar is one you will not want to miss if you are looking to invest in real estate or you are looking to help a family member with a home purchase.</span><br />\n&nbsp\;<br />\n<span style="font-family:calibri\,sans-serif"><span style="font-size:14px">If you or someone you care about is interested in attending this seminar\, click the link below</span></span></span><br />\nhttps://events.teams.microsoft.com/event/e5499559-1de9-4d18-8946-46835876edf3@7855c2e1-437a-4870-9615-daaacaed4348<br />\n&nbsp\;
LOCATION:
UID:e.1186.12634
SEQUENCE:3
DTSTAMP:20260420T055411Z
URL:https://business.westervillechamber.com/events/details/real-estate-seminar-hosted-by-traction-wealth-advisors-12634
END:VEVENT

END:VCALENDAR
