BEGIN:VCALENDAR
VERSION:2.0
PRODID:-//ChamberMaster//Event Calendar 2.0//EN
METHOD:PUBLISH
X-PUBLISHED-TTL:P3D
REFRESH-INTERVAL:P3D
CALSCALE:GREGORIAN
BEGIN:VEVENT
DTSTART:20251113T160000Z
DTEND:20251113T163000Z
X-MICROSOFT-CDO-ALLDAYEVENT:FALSE
SUMMARY:Ribbon Cutting - Thrivewell Infusion - NEW BUSINESS
DESCRIPTION:
X-ALT-DESC;FMTTYPE=text/html:
LOCATION:575 COPELAND MILL ROAD #2F WESTERVILLE\, OH 43081
UID:e.1186.14031
SEQUENCE:3
DTSTAMP:20260420T054343Z
URL:https://business.westervillechamber.com/events/details/ribbon-cutting-thrivewell-infusion-new-business-14031
END:VEVENT

END:VCALENDAR
