BEGIN:VCALENDAR
VERSION:2.0
PRODID:-//ChamberMaster//Event Calendar 2.0//EN
METHOD:PUBLISH
X-PUBLISHED-TTL:P3D
REFRESH-INTERVAL:P3D
CALSCALE:GREGORIAN
BEGIN:VEVENT
DTSTART:20181103T113000Z
DTEND:20181103T180000Z
X-MICROSOFT-CDO-ALLDAYEVENT:FALSE
SUMMARY:Rotary Honors Veterans 5K Walk/Run
DESCRIPTION:The Rotary Club of Westerville is excited to again offer the community a venue for coming together and celebrating our brave men and women ?of the military. We are proud to announce the 8th Anniversary of ?our annual Rotary Honors Veterans 5K Walk/Run\, a family oriented event for adults and children of all ages. We appreciate everyone who has participated and made this a successful event. Because of your support\, we have proudly donated nearly $30\,000 to veteran's organizations\, ?over the 7-year history of our 5K! Having Chase Bank as our partner and Presenting Sponsor\, will enable us to further enhance this cause and the level of support we're able to offer.
X-ALT-DESC;FMTTYPE=text/html:The Rotary Club of Westerville is excited to again offer the community a venue for coming together and celebrating our brave men and women ?of the military. We are proud to announce the 8th Anniversary of ?our annual Rotary Honors Veterans 5K Walk/Run\, a family oriented event for adults and children of all ages. We appreciate everyone who has participated and made this a successful event. Because of your support\, we have proudly donated nearly $30\,000 to veteran&#39\;s organizations\, ?over the 7-year history of our 5K! Having Chase Bank as our partner and Presenting Sponsor\, will enable us to further enhance this cause and the level of support we&#39\;re able to offer.
LOCATION:Alum Creek Park\, Westerville\, Ohio
UID:e.1186.3046
SEQUENCE:3
DTSTAMP:20260421T103229Z
URL:https://business.westervillechamber.com/events/details/rotary-honors-veterans-5k-walk-run-3046
END:VEVENT

END:VCALENDAR
