BEGIN:VCALENDAR
VERSION:2.0
PRODID:-//ChamberMaster//Event Calendar 2.0//EN
METHOD:PUBLISH
X-PUBLISHED-TTL:P3D
REFRESH-INTERVAL:P3D
CALSCALE:GREGORIAN
BEGIN:VEVENT
DTSTART:20251007T130000Z
DTEND:20251007T140000Z
X-MICROSOFT-CDO-ALLDAYEVENT:FALSE
SUMMARY:Small Office Home Office (SOHO) - Your Own Board of Experts
DESCRIPTION:SOHO is a network designed to support and inspire each participant by sharing ideas\, problem solving\, strategizing and by learning from each other's experiences.\n\n\n\nPlease join us this month for a group discussion.\n\n\n\nThis month's speaker is Dr. M.J. Lindeman of Team with AI\n\n\n\nTeam with AI to Get More from Your Conversations\n\n \n\nDo you want better answers than your competitors are getting from the same AIs? Most people use AI at one or more of the four basic levels of interactions: asking questions\, getting assistance\, solving problems\, and achieving goals. However\, there is also a fifth level where AI becomes provocative and challenges your thinking. This helps you find your blind spots and see around corners.\n\n \n\nDr. M.J. Lindeman will demonstrate these interaction levels using real problems so you can experience the difference firsthand. Bring a real or fictional challenge of any type that could be addressed by an AI such as ChatGPT or Claude. The problems can be disguised or generalized. Similar challenges often emerge across industries\, so discussion benefits everyone. We will use standard examples if no specific examples are requested.\n\n \n\nAbout the Speaker: Dr. M.J. Lindeman earned her PhD in cognitive psychology from Harvard (1985) comparing how humans and AI learn natural categories\, spent three years as a research scientist in information retrieval\, then built a 25+ year solopreneur consulting business designing user-interactive systems for Fortune 500 companies and military projects. As founder of New Realities Thinking Inc.\, she helps professionals unlock AI's full potential as a teammate through her Team With AI coaching and workshops.
X-ALT-DESC;FMTTYPE=text/html:<div style="text-align: center\;">\n<div style="text-align: left\;"><span style="font-size:14px\;"><span style="font-family:tahoma\;">SOHO is a network designed to support and inspire each participant by sharing ideas\, problem solving\, strategizing and by learning from each other&#39\;s experiences.<br />\n<br />\nPlease join us this month for a group discussion.<br />\n<br />\nThis month&#39\;s speaker is Dr. M.J. Lindeman of&nbsp\;Team with AI<br />\n<br />\nTeam with AI to Get More from Your Conversations<br />\n&nbsp\;<br />\nDo you want better answers than your competitors are getting from the same AIs? Most people use AI at one or more of the four basic levels of interactions: asking questions\, getting assistance\, solving problems\, and achieving goals. However\, there is also a fifth level where AI becomes provocative and challenges your thinking. This helps you find your blind spots and see around corners.<br />\n&nbsp\;<br />\nDr. M.J. Lindeman will demonstrate these interaction levels using real problems so you can experience the difference firsthand. Bring a real or fictional challenge of any type that could be addressed by an AI such as ChatGPT or Claude. The problems can be disguised or generalized. Similar challenges often emerge across industries\, so discussion benefits everyone. We will use standard examples if no specific examples are requested.<br />\n&nbsp\;<br />\nAbout the Speaker: Dr. M.J. Lindeman earned her PhD in cognitive psychology from Harvard (1985) comparing how humans and AI learn natural categories\, spent three years as a research scientist in information retrieval\, then built a 25+ year solopreneur consulting business designing user-interactive systems for Fortune 500 companies and military projects. As founder of New Realities Thinking Inc.\, she helps professionals unlock AI&#39\;s full potential as a teammate through her Team With AI coaching and workshops.</span></span></div>\n</div>\n
LOCATION:99 Commerce Park Drive\, Westerville\, OH 43082
UID:e.1186.13152
SEQUENCE:3
DTSTAMP:20260419T122107Z
URL:https://business.westervillechamber.com/events/details/small-office-home-office-soho-your-own-board-of-experts-10-07-2025-13152
END:VEVENT

END:VCALENDAR
