BEGIN:VCALENDAR
VERSION:2.0
PRODID:-//ChamberMaster//Event Calendar 2.0//EN
METHOD:PUBLISH
X-PUBLISHED-TTL:P3D
REFRESH-INTERVAL:P3D
CALSCALE:GREGORIAN
BEGIN:VEVENT
DTSTART:20250906T140000Z
DTEND:20250906T153000Z
X-MICROSOFT-CDO-ALLDAYEVENT:FALSE
SUMMARY:Sound Bath with Dr Sandra Solano
DESCRIPTION:Join Balance Integrative Wellness in welcoming Dr Sandra Solano as she invites the sounds of Himalayan Singing Bowls and Gong to immerse you in a unique experience of vibration and sound.  Enjoy sounds that will bring you to a quick state of deep relaxation. The purpose of this session is not to treat a specific illness or medical problem but rather to improve the energy flow throughout the body/mind/spirit pathways. Individuals will experience a deep relaxation response to physical/emotional/spiritual health issues. This event is limited to 10 participants and will fill up quickly. The small group will allow time for Dr. Solano to place bowls directly on participants for a more personalized and intimate experience. \n\n\n\nImportant Notes: Each individual needs to wear comfortable clothing for this program. Please bring your yoga mat\, blankets\, and other props for comfort. Participants must be physically able to get down on the floor (and upright afterward). Please arrive 10 minutes early so the session can begin on time.
X-ALT-DESC;FMTTYPE=text/html:<span style="font-family:arial\,helvetica\,sans-serif\; font-size:14px">Join Balance Integrative Wellness in welcoming Dr Sandra Solano as she invites the sounds of Himalayan Singing Bowls and Gong to immerse you in a unique experience of vibration and sound. &nbsp\;Enjoy sounds that will bring you to a quick state of deep relaxation. The purpose of this session is not to treat a specific illness or medical problem but rather to improve the energy flow throughout the body/mind/spirit pathways. Individuals will experience a deep relaxation response to physical/emotional/spiritual health issues. This event is limited to 10 participants and will fill up quickly. The small group will allow time for Dr. Solano to place bowls directly on participants for a more personalized and intimate experience.&nbsp\;</span><br />\n<br />\n<strong>Important Notes:&nbsp\;</strong><span style="color:rgb(0\, 0\, 0)">Each individual needs to wear comfortable clothing for this program. Please bring your yoga mat\, blankets\, and other props for comfort. Participants must be physically able to get down on the floor (and upright afterward). Please arrive 10 minutes early so the session can begin on time.&nbsp\;</span>
LOCATION:Balance Integrative Wellness 109 Commerce Park Dr Westerville\, OH 43082
UID:e.1186.13799
SEQUENCE:3
DTSTAMP:20260419T133704Z
URL:https://business.westervillechamber.com/events/details/sound-bath-with-dr-sandra-solano-13799
END:VEVENT

END:VCALENDAR
