BEGIN:VCALENDAR
VERSION:2.0
PRODID:-//ChamberMaster//Event Calendar 2.0//EN
METHOD:PUBLISH
X-PUBLISHED-TTL:P3D
REFRESH-INTERVAL:P3D
CALSCALE:GREGORIAN
BEGIN:VEVENT
DTSTART:20211101T160000Z
DTEND:20211101T160000Z
X-MICROSOFT-CDO-ALLDAYEVENT:FALSE
SUMMARY:Step Up To The Plate Group Nutrition Program
DESCRIPTION:It's time to Step Up To The Plate! Join us for an 8 Week Nutrition Challenge - this group program will help you to build a healthy plate one habit at a time! Led by a Registered Dietitian\, you will meet weekly for a live Q&A - meetings will be recorded too.\n\n \nBenefits\n\n\n\n\n	Step by step instructions for how to achieve a healthier plate and lifestyle\n	New healthy habit every week\n	Weekly 30 minute question and answer session with Laura Poland\, Registered Dietitian:  Mondays at 6:30 pm (meetings are recorded if you miss it)\n	Use of Healthie throughout the program - chat with the dietitian\, track your fluid intake\, meals and set goals\n	Track your progress and get motivated!\n	Complete the program - turn in your completed tracking form and receive $50 gift card of choice
X-ALT-DESC;FMTTYPE=text/html:It&#39\;s time to <span style="color:#FF8C00"><strong>Step Up To The Plate! </strong></span>Join us for an <strong>8 Week Nutrition Challenge</strong> - this group program will help you to build a healthy plate one habit at a time! Led by a Registered Dietitian\, you will meet weekly for a live Q&amp\;A - meetings will be recorded too.<br />\n&nbsp\;\n<div><span style="color:#FF8C00"><strong>Benefits</strong></span></div>\n\n<div>\n<div>\n<ul>\n	<li>Step by step instructions for how to achieve a healthier plate and lifestyle</li>\n	<li>New healthy habit every week</li>\n	<li>Weekly 30 minute question and answer session with Laura Poland\, Registered Dietitian:&nbsp\; Mondays at 6:30 pm (meetings are recorded if you miss it)</li>\n	<li>Use of Healthie throughout the program - chat with the dietitian\, track your fluid intake\, meals and set goals</li>\n	<li>Track your progress and get motivated!</li>\n	<li>Complete the program - turn in your completed tracking form and receive $50 gift card of choice</li>\n</ul>\n</div>\n</div>\n<br />\n<br />\n&nbsp\;
LOCATION:Virtual\; On-Demand Groups
UID:e.1186.5454
SEQUENCE:3
DTSTAMP:20260422T054015Z
URL:https://business.westervillechamber.com/events/details/step-up-to-the-plate-group-nutrition-program-11-01-2021-5454
END:VEVENT

END:VCALENDAR
