BEGIN:VCALENDAR
VERSION:2.0
PRODID:-//ChamberMaster//Event Calendar 2.0//EN
METHOD:PUBLISH
X-PUBLISHED-TTL:P3D
REFRESH-INTERVAL:P3D
CALSCALE:GREGORIAN
BEGIN:VEVENT
DTSTART:20230806T123000Z
DTEND:20230806T153000Z
X-MICROSOFT-CDO-ALLDAYEVENT:FALSE
SUMMARY:Strength In Colors 5K and KIDS DASH
DESCRIPTION:Everyone is invited to join WBNS TV Sports Anchor\, Adam King and The Crawford Crew at McNamara Park in Galena\, on Sunday morning\, August 6th\, for the annual Strength in Colors 5K & KIDS DASH supporting cancer survivors and raising awareness for HPV-related cancer prevention. In person and virtual registration options are available.\n\n\n\nThe Crawford Crew's mission is to end HPV-related cancers and we need your help to achieve this goal! Proceeds raised will be donated to nonprofits who share in our mission and will help to fund our education and outreach programs including our new Patient Support Program\, providing patients being treated in Columbus with nutrition and transportation support.\n\nHealth Fair: Healthcare experts and community-based organizations will be onsite to answer HPV-related and cancer prevention questions.\n\nRUNColumbus Race Series: #SIC5K2023 is part of this incredible race series. It's a point-based race series\, RUNColumbus is for runners of all ages\, backgrounds\, and fitness levels. Find out more details at https://runcolumbusraceseries.com/
X-ALT-DESC;FMTTYPE=text/html:<h2><span style="font-family:verdana">Everyone is invited to join WBNS TV Sports Anchor\, Adam King and The Crawford Crew at&nbsp\;<a href="https://www.google.com/maps/place/McNamara+Park/@40.1825693\,-82.910484\,15z/data=!4m2!3m1!1s0x0:0x6353ae2b2212ee6b?sa=X&amp\;ved=2ahUKEwjHz4z91aX3AhVYHjQIHbT5BsMQ_BJ6BAhhEAU" rel="nofollow noopener noreferrer" style="box-sizing: inherit\; background-color: rgba(0\, 0\, 0\, 0)\; color: rgb(56\, 126\, 153)\; text-decoration-line: none\;" target="_blank">McNamara Park</a>&nbsp\;in Galena\, on Sunday morning\, August 6th\, for the annual Strength in Colors 5K &amp\; KIDS DASH supporting cancer survivors and raising awareness for HPV-related cancer prevention. In person and virtual registration options are available.<br />\n<br />\nThe Crawford Crew&rsquo\;s mission is to end HPV-related cancers and we need your help to achieve this goal! Proceeds raised will be donated to nonprofits who share in our mission and will help to fund our education and outreach programs including our new Patient Support Program\, providing patients being treated in Columbus with nutrition and transportation support.</span></h2>\n\n<h2><span style="font-family:verdana"><strong>Health Fair:</strong>&nbsp\;Healthcare experts and community-based organizations will be onsite to answer HPV-related and cancer prevention questions.</span></h2>\n\n<h2><span style="font-family:verdana"><strong>RUNColumbus Race Series:</strong>&nbsp\;#SIC5K2023 is part of this incredible race series. It&#39\;s a</span>&nbsp\;point-based race series\, RUNColumbus is for runners of all ages\, backgrounds\, and fitness levels.&nbsp\;<span style="font-family:verdana">Find out more details at&nbsp\;</span><a href="https://runcolumbusraceseries.com/" rel="nofollow noopener noreferrer" style="color: rgb(56\, 126\, 153)\; font-family: verdana\; background-color: rgba(0\, 0\, 0\, 0)\; box-sizing: inherit\; text-decoration-line: none\;" target="_blank">https://runcolumbusraceseries.com/</a><span style="font-family:verdana">&nbsp\;</span></h2>\n
LOCATION:McNamara Park and Shelter 7049 Big Walnut Rd.\, Galena\, OH 43021
UID:e.1186.8971
SEQUENCE:3
DTSTAMP:20260420T230906Z
URL:https://business.westervillechamber.com/events/details/strength-in-colors-5k-and-kids-dash-08-06-2023-8971
END:VEVENT

END:VCALENDAR
