BEGIN:VCALENDAR
VERSION:2.0
PRODID:-//ChamberMaster//Event Calendar 2.0//EN
METHOD:PUBLISH
X-PUBLISHED-TTL:P3D
REFRESH-INTERVAL:P3D
CALSCALE:GREGORIAN
BEGIN:VEVENT
DTSTART:20230730T170000Z
DTEND:20230730T210000Z
X-MICROSOFT-CDO-ALLDAYEVENT:FALSE
SUMMARY:Tapestry of a Town
DESCRIPTION:Weave your way through the fabric of our town with this popular annual tour of historic Westerville. Every year offers new places to visit\, each with its own host to tell you about that location's history. There is always something new to learn about our lovely town\, so please join us! Ticket sales support Westerville Habitat Partnership (WHP) which is an assembled group of churches\, organizations and individuals who support Habitat for Humanity of Delaware and Union Counties by sponsoring fundraisers\, special events and partnering in walls builds.
X-ALT-DESC;FMTTYPE=text/html:Weave your way through the fabric of our town with this popular annual tour of historic Westerville. Every year offers new places to visit\, each with its own host to tell you about that location&#39\;s history. There is always something new to learn about our lovely town\, so please join us! Ticket sales support Westerville Habitat Partnership (WHP) which is an assembled group of churches\, organizations and individuals who support Habitat for Humanity of Delaware and Union Counties by sponsoring fundraisers\, special events and partnering in walls builds.
LOCATION:Westerville\, Ohio
UID:e.1186.8621
SEQUENCE:3
DTSTAMP:20260421T005120Z
URL:https://business.westervillechamber.com/events/details/tapestry-of-a-town-8621
END:VEVENT

END:VCALENDAR
