BEGIN:VCALENDAR
VERSION:2.0
PRODID:-//ChamberMaster//Event Calendar 2.0//EN
METHOD:PUBLISH
X-PUBLISHED-TTL:P3D
REFRESH-INTERVAL:P3D
CALSCALE:GREGORIAN
BEGIN:VEVENT
DTSTART:20251025T140000Z
DTEND:20251025T220000Z
X-MICROSOFT-CDO-ALLDAYEVENT:FALSE
SUMMARY:Teacher Discount
DESCRIPTION:$10 off $40 Purchase for teachers
X-ALT-DESC;FMTTYPE=text/html:$10 off $40 Purchase for teachers
LOCATION:Different Decades Fashion Exchange 22 Westerview Drive Westerville\, Ohio 43081
UID:e.1186.14030
SEQUENCE:3
DTSTAMP:20260422T220228Z
URL:https://business.westervillechamber.com/events/details/teacher-discount-14030
END:VEVENT

END:VCALENDAR
