BEGIN:VCALENDAR
VERSION:2.0
PRODID:-//ChamberMaster//Event Calendar 2.0//EN
METHOD:PUBLISH
X-PUBLISHED-TTL:P3D
REFRESH-INTERVAL:P3D
CALSCALE:GREGORIAN
BEGIN:VEVENT
DTSTART:20240702T203000Z
DTEND:20240702T223000Z
X-MICROSOFT-CDO-ALLDAYEVENT:FALSE
SUMMARY:The Peach Truck at Jorgensen Farms
DESCRIPTION:The Peach Truck is coming to Jorgensen Farms! This summer The Peach Truck will be visiting Jorgensen Farms at their Oak Grove location 4 times this summer! Preorder below and pick up your peaches at the date of your choosing. \n\n\n\nTo preorder\, go to https://thepeachtruck.com/collections/all-products-2024 and choose which size you'd like to order\, the date\, and then get ready for the best peaches of your life!\n\n\n\nYou haven't had a peach\, until you've had a Peach Truck Peach! \n\n\n\n*They may have extra peaches on site for sale\, but not guaranteed so preordering is encouraged.*
X-ALT-DESC;FMTTYPE=text/html:The Peach Truck is coming to Jorgensen Farms! This summer The Peach Truck will be visiting Jorgensen Farms at their Oak Grove location 4 times this summer! Preorder below and pick up your peaches at the date of your choosing.&nbsp\;<br />\n<br />\nTo preorder\, go to&nbsp\;https://thepeachtruck.com/collections/all-products-2024&nbsp\;and choose which size you&#39\;d like to order\, the date\, and then get ready for the best peaches of your life!<br />\n<br />\nYou haven&#39\;t had a peach\, until you&#39\;ve had a Peach Truck Peach!&nbsp\;<br />\n<br />\n*They may have extra peaches on site for sale\, but not guaranteed so preordering is encouraged.*
LOCATION:7500 Harlem Rd\, Westerville\, OH 43081
UID:e.1186.12185
SEQUENCE:3
DTSTAMP:20260422T141145Z
URL:https://business.westervillechamber.com/events/details/the-peach-truck-at-jorgensen-farms-12185
END:VEVENT

END:VCALENDAR
