BEGIN:VCALENDAR
VERSION:2.0
PRODID:-//ChamberMaster//Event Calendar 2.0//EN
METHOD:PUBLISH
X-PUBLISHED-TTL:P3D
REFRESH-INTERVAL:P3D
CALSCALE:GREGORIAN
BEGIN:VEVENT
DTSTART:20251025T140000Z
DTEND:20251025T160000Z
X-MICROSOFT-CDO-ALLDAYEVENT:FALSE
SUMMARY:TRUNK OR TREAT
DESCRIPTION:Harvest Festival & Trunk-or-Treat\n\nJoin us for a fun-filled family evening at our Harvest Festival & Trunk-or-Treat! \n\nWe'll have decorated trunks full of treats\, festive games\, yummy snacks\, and exciting prizes for the kids. Come in your costumes and enjoy a safe\, joyful way to celebrate the season with friends and family!\n\nWhat to Expect:\n\n\n	\n	Trunk-or-Treating \n	\n	\n	Fun Games & Activities \n	\n	\n	Snacks & Goodies \n	\n	\n	Prizes & Surprises \n	\n\n\nIt's sure to be an afternoon full of laughter\, community\, and fall fun we can't wait to see you there!
X-ALT-DESC;FMTTYPE=text/html:<p><strong>Harvest Festival &amp\; Trunk-or-Treat</strong></p>\n\n<p>Join us for a fun-filled family evening at our <strong>Harvest Festival &amp\; Trunk-or-Treat</strong>!&nbsp\;<br />\nWe&rsquo\;ll have decorated trunks full of treats\, festive games\, yummy snacks\, and exciting prizes for the kids. Come in your costumes and enjoy a safe\, joyful way to celebrate the season with friends and family!</p>\n\n<p>What to Expect:</p>\n\n<ul>\n	<li>\n	<p>Trunk-or-Treating&nbsp\;</p>\n	</li>\n	<li>\n	<p>Fun Games &amp\; Activities&nbsp\;</p>\n	</li>\n	<li>\n	<p>Snacks &amp\; Goodies&nbsp\;</p>\n	</li>\n	<li>\n	<p>Prizes &amp\; Surprises&nbsp\;</p>\n	</li>\n</ul>\n\n<p>It&rsquo\;s sure to be an afternoon full of laughter\, community\, and fall fun&mdash\;we can&rsquo\;t wait to see you there!&nbsp\;</p>\n
LOCATION:Enchanted Care Learning Center. 1243 County Line Rd. Westerville\, Oh 43081
UID:e.1186.14004
SEQUENCE:3
DTSTAMP:20260422T220950Z
URL:https://business.westervillechamber.com/events/details/trunk-or-treat-14004
END:VEVENT

END:VCALENDAR
