BEGIN:VCALENDAR
VERSION:2.0
PRODID:-//ChamberMaster//Event Calendar 2.0//EN
METHOD:PUBLISH
X-PUBLISHED-TTL:P3D
REFRESH-INTERVAL:P3D
CALSCALE:GREGORIAN
BEGIN:VEVENT
DTSTART:20251019T190000Z
DTEND:20251019T210000Z
X-MICROSOFT-CDO-ALLDAYEVENT:FALSE
SUMMARY:Trunk or Treat\, Sunday\, October 19\, 3-5pm at Grace Evangelical Lutheran Church
DESCRIPTION:Attention kids and youth! You\, your friends\, neighbors\, and classmates are invited to our merry not scary\, Trunk or Treat\, Sunday\, October 19\, 3-5pm at Grace Evangelical Lutheran Church\, 100 E. Schrock Road\, Westerville. Wear your costumes and join us for this fun alternative to trick or treating door-to-door\, or just a good excuse to get one more use out of your costumes. Travel around the church parking lot from car to car as if trick-or-treating\, stopping at each decorated trunk to play a game or receive a treat. Join us for a fun afternoon!
X-ALT-DESC;FMTTYPE=text/html:<span style="color:rgb(8\, 8\, 9)\; font-family:segoe ui historic\,segoe ui\,helvetica\,arial\,sans-serif\; font-size:15px">Attention kids and youth! You\, your friends\, neighbors\, and classmates are invited to our merry not scary\, Trunk or Treat\, Sunday\, October 19\, 3-5pm at Grace Evangelical Lutheran Church\, 100 E. Schrock Road\, Westerville. Wear your costumes and join us for this fun alternative to trick or treating door-to-door\, or just a good excuse to get one more use out of your costumes. Travel around the church parking lot from car to car as if trick-or-treating\, stopping at each decorated trunk to play a game or receive a treat. Join us for a fun afternoon!</span>
LOCATION:Sunday\, October 19\, 3-5pm at Grace Evangelical Lutheran Church\, 100 E. Schrock Road\, Westerville
UID:e.1186.13997
SEQUENCE:3
DTSTAMP:20260419T122306Z
URL:https://business.westervillechamber.com/events/details/trunk-or-treat-sunday-october-19-3-5pm-at-grace-evangelical-lutheran-church-13997
END:VEVENT

END:VCALENDAR
