BEGIN:VCALENDAR
VERSION:2.0
PRODID:-//ChamberMaster//Event Calendar 2.0//EN
METHOD:PUBLISH
X-PUBLISHED-TTL:P3D
REFRESH-INTERVAL:P3D
CALSCALE:GREGORIAN
BEGIN:VEVENT
DTSTART;VALUE=DATE:20211114
DTEND;VALUE=DATE:20211129
TRANSP:TRANSPARENT
X-MICROSOFT-CDO-ALLDAYEVENT:TRUE
SUMMARY:TWIG of Nationwide Children's Hospital Virtual Bazaar
DESCRIPTION:This year the Virtual TWIG Bazaar will be a silent auction\, raffle and pick-a-prize format designed to highlight the talented and creative handmade crafts of the members of TWIG of Nationwide Children's Hospital. Website goes live on November 14 and closes November 28\, 2021. Event.Gives/TWIGBazaar
X-ALT-DESC;FMTTYPE=text/html:This year the Virtual TWIG Bazaar will be a silent auction\, raffle and pick-a-prize format designed to highlight the talented and creative handmade crafts of the members of TWIG of Nationwide Children&rsquo\;s Hospital. Website goes live on November 14 and closes November 28\, 2021. Event.Gives/TWIGBazaar
LOCATION:Virtual
UID:e.1186.5598
SEQUENCE:3
DTSTAMP:20260422T054443Z
URL:https://business.westervillechamber.com/events/details/twig-of-nationwide-children-s-hospital-virtual-bazaar-5598
END:VEVENT

END:VCALENDAR
