BEGIN:VCALENDAR
VERSION:2.0
PRODID:-//ChamberMaster//Event Calendar 2.0//EN
METHOD:PUBLISH
X-PUBLISHED-TTL:P3D
REFRESH-INTERVAL:P3D
CALSCALE:GREGORIAN
BEGIN:VEVENT
DTSTART:20260808T220000Z
DTEND:20260809T020000Z
X-MICROSOFT-CDO-ALLDAYEVENT:FALSE
SUMMARY:Uptown Untapped
DESCRIPTION:The Craft Brew Festival in the former Dry Capital of the World\n\n\n\nMake Uptown your destination for a great night out Aug. 8 at our 2026 Uptown Untapped festival.\n\n\n\nAbout 20 Ohio craft breweries are expected to pour at the 2026 Untapped. Tasty food selections will be offered by Uptown eateries. Live music\, entertainment\, games and scores of our friendly Untapped volunteers will create a great atmosphere. And gluten-free drink choices will be available for those not into to hopping it up!\n\n\n\nThis event is only for those over the age of 21. All participants must show ID to enter. No exceptions. Event will be held Rain or Shine.\n\n\n\nUptown Untapped sets up along the first block of East Main Street. Usually held the second Saturday of each August\, Untapped takes over the roadway and adjacent parking lots both north and south of Main.\n\n\n\nEnter from State Street adjacent to the Old Bag of Nails. Have that ID ready!
X-ALT-DESC;FMTTYPE=text/html:<span style="font-size:16px\;"><u><strong>The Craft Brew Festival in the former Dry Capital of the World</strong></u></span><br />\n<br />\nMake Uptown your destination for a great night out Aug. 8 at our 2026 Uptown Untapped festival.<br />\n<br />\nAbout 20 Ohio craft breweries are expected to pour at the 2026 Untapped. Tasty food selections will be offered by Uptown eateries. Live music\, entertainment\, games and scores of our friendly Untapped volunteers will create a great atmosphere. And gluten-free drink choices will be available for those not into to hopping it up!<br />\n<br />\nThis event is only for those over the age of 21. All participants must show ID to enter. No exceptions. Event will be held Rain or Shine.<br />\n<br />\nUptown Untapped sets up along the first block of East Main Street. Usually held the second Saturday of each August\, Untapped takes over the roadway and adjacent parking lots both north and south of Main.<br />\n<br />\nEnter from State Street adjacent to the Old Bag of Nails. Have that ID ready!
LOCATION:East Main Street Westerville
UID:e.1186.14695
SEQUENCE:3
DTSTAMP:20260421T162006Z
URL:https://business.westervillechamber.com/events/details/uptown-untapped-14695
END:VEVENT

END:VCALENDAR
